BEGIN:VCALENDAR
VERSION:2.0
PRODID:-//City of Tontitown, Arkansas - ECPv6.15.13//NONSGML v1.0//EN
CALSCALE:GREGORIAN
METHOD:PUBLISH
X-WR-CALNAME:City of Tontitown, Arkansas
X-ORIGINAL-URL:https://www.tontitown.com
X-WR-CALDESC:Events for City of Tontitown, Arkansas
REFRESH-INTERVAL;VALUE=DURATION:PT1H
X-Robots-Tag:noindex
X-PUBLISHED-TTL:PT1H
BEGIN:VTIMEZONE
TZID:America/Chicago
BEGIN:DAYLIGHT
TZOFFSETFROM:-0600
TZOFFSETTO:-0500
TZNAME:CDT
DTSTART:20190310T080000
END:DAYLIGHT
BEGIN:STANDARD
TZOFFSETFROM:-0500
TZOFFSETTO:-0600
TZNAME:CST
DTSTART:20191103T070000
END:STANDARD
BEGIN:DAYLIGHT
TZOFFSETFROM:-0600
TZOFFSETTO:-0500
TZNAME:CDT
DTSTART:20200308T080000
END:DAYLIGHT
BEGIN:STANDARD
TZOFFSETFROM:-0500
TZOFFSETTO:-0600
TZNAME:CST
DTSTART:20201101T070000
END:STANDARD
BEGIN:DAYLIGHT
TZOFFSETFROM:-0600
TZOFFSETTO:-0500
TZNAME:CDT
DTSTART:20210314T080000
END:DAYLIGHT
BEGIN:STANDARD
TZOFFSETFROM:-0500
TZOFFSETTO:-0600
TZNAME:CST
DTSTART:20211107T070000
END:STANDARD
BEGIN:DAYLIGHT
TZOFFSETFROM:-0600
TZOFFSETTO:-0500
TZNAME:CDT
DTSTART:20220313T080000
END:DAYLIGHT
BEGIN:STANDARD
TZOFFSETFROM:-0500
TZOFFSETTO:-0600
TZNAME:CST
DTSTART:20221106T070000
END:STANDARD
BEGIN:DAYLIGHT
TZOFFSETFROM:-0600
TZOFFSETTO:-0500
TZNAME:CDT
DTSTART:20230312T080000
END:DAYLIGHT
BEGIN:STANDARD
TZOFFSETFROM:-0500
TZOFFSETTO:-0600
TZNAME:CST
DTSTART:20231105T070000
END:STANDARD
BEGIN:DAYLIGHT
TZOFFSETFROM:-0600
TZOFFSETTO:-0500
TZNAME:CDT
DTSTART:20240310T080000
END:DAYLIGHT
BEGIN:STANDARD
TZOFFSETFROM:-0500
TZOFFSETTO:-0600
TZNAME:CST
DTSTART:20241103T070000
END:STANDARD
BEGIN:DAYLIGHT
TZOFFSETFROM:-0600
TZOFFSETTO:-0500
TZNAME:CDT
DTSTART:20250309T080000
END:DAYLIGHT
BEGIN:STANDARD
TZOFFSETFROM:-0500
TZOFFSETTO:-0600
TZNAME:CST
DTSTART:20251102T070000
END:STANDARD
BEGIN:DAYLIGHT
TZOFFSETFROM:-0600
TZOFFSETTO:-0500
TZNAME:CDT
DTSTART:20260308T080000
END:DAYLIGHT
BEGIN:STANDARD
TZOFFSETFROM:-0500
TZOFFSETTO:-0600
TZNAME:CST
DTSTART:20261101T070000
END:STANDARD
END:VTIMEZONE
BEGIN:VEVENT
DTSTART;TZID=America/Chicago:20250607T170000
DTEND;TZID=America/Chicago:20250607T210000
DTSTAMP:20260422T095023
CREATED:20241204T152836Z
LAST-MODIFIED:20241204T152836Z
UID:25921-1749315600-1749330000@www.tontitown.com
SUMMARY:Piazza-Pianalto Reunion- 5-9pm
DESCRIPTION:JM\, Receipt #13114
URL:https://www.tontitown.com/event/piazza-pianalto-reunion-5-9pm/
LOCATION:Piazza – West Pavillion\, Tontitown\, AR\, 72762\, United States
CATEGORIES:Pavillion/Gazebo
END:VEVENT
BEGIN:VEVENT
DTSTART;TZID=America/Chicago:20250426T143000
DTEND;TZID=America/Chicago:20250426T173000
DTSTAMP:20260422T095023
CREATED:20250102T173700Z
LAST-MODIFIED:20250102T173700Z
UID:26047-1745677800-1745688600@www.tontitown.com
SUMMARY:Piazza-Magness- 2:30pm-5:30pm
DESCRIPTION:JM\, Receipt #13226
URL:https://www.tontitown.com/event/piazza-magness-230pm-530pm/
LOCATION:Piazza – West Pavillion\, Tontitown\, AR\, 72762\, United States
CATEGORIES:Pavillion/Gazebo
END:VEVENT
BEGIN:VEVENT
DTSTART;TZID=America/Chicago:20250418T110000
DTEND;TZID=America/Chicago:20250418T130000
DTSTAMP:20260422T095023
CREATED:20250403T173232Z
LAST-MODIFIED:20250403T173232Z
UID:26760-1744974000-1744981200@www.tontitown.com
SUMMARY:Langley-Piazza 11am-1pm
DESCRIPTION:MP Rec #13655
URL:https://www.tontitown.com/event/langley-piazza-11am-1pm/
LOCATION:Piazza – West Pavillion\, Tontitown\, AR\, 72762\, United States
CATEGORIES:Pavillion/Gazebo
END:VEVENT
BEGIN:VEVENT
DTSTART;TZID=America/Chicago:20240921T160000
DTEND;TZID=America/Chicago:20240921T190000
DTSTAMP:20260422T095023
CREATED:20240909T204948Z
LAST-MODIFIED:20240909T204948Z
UID:25406-1726934400-1726945200@www.tontitown.com
SUMMARY:Mecham-Piazza 4-7pm
DESCRIPTION:MP Rec #12688
URL:https://www.tontitown.com/event/mecham-piazza-4-7pm/
LOCATION:Piazza – West Pavillion\, Tontitown\, AR\, 72762\, United States
CATEGORIES:Pavillion/Gazebo
END:VEVENT
BEGIN:VEVENT
DTSTART;TZID=America/Chicago:20240908T150000
DTEND;TZID=America/Chicago:20240908T190000
DTSTAMP:20260422T095023
CREATED:20240906T191412Z
LAST-MODIFIED:20240906T191412Z
UID:25395-1725807600-1725822000@www.tontitown.com
SUMMARY:Canup-Piazza 3-7pm
DESCRIPTION:MP Rec #12668
URL:https://www.tontitown.com/event/canup-piazza-3-7pm/
LOCATION:Piazza – West Pavillion\, Tontitown\, AR\, 72762\, United States
CATEGORIES:Pavillion/Gazebo
END:VEVENT
BEGIN:VEVENT
DTSTART;TZID=America/Chicago:20240623T120000
DTEND;TZID=America/Chicago:20240623T160000
DTSTAMP:20260422T095023
CREATED:20240229T155846Z
LAST-MODIFIED:20240229T155846Z
UID:23448-1719144000-1719158400@www.tontitown.com
SUMMARY:Beeks-Piazza- 12-4
DESCRIPTION:JM\, Receipt #11497
URL:https://www.tontitown.com/event/beeks-piazza-12-4/
LOCATION:Piazza – West Pavillion\, Tontitown\, AR\, 72762\, United States
CATEGORIES:Pavillion/Gazebo
END:VEVENT
BEGIN:VEVENT
DTSTART;TZID=America/Chicago:20240601T090000
DTEND;TZID=America/Chicago:20240601T150000
DTSTAMP:20260422T095023
CREATED:20240229T191955Z
LAST-MODIFIED:20240229T191955Z
UID:23459-1717232400-1717254000@www.tontitown.com
SUMMARY:Harps Food- Piazza- 9-3
DESCRIPTION:JM\, Receipt #11499
URL:https://www.tontitown.com/event/harps-food-piazza-9-3/
LOCATION:Piazza – West Pavillion\, Tontitown\, AR\, 72762\, United States
CATEGORIES:Pavillion/Gazebo
END:VEVENT
BEGIN:VEVENT
DTSTART;TZID=America/Chicago:20240525T110000
DTEND;TZID=America/Chicago:20240525T130000
DTSTAMP:20260422T095023
CREATED:20240503T144556Z
LAST-MODIFIED:20240503T144556Z
UID:24438-1716634800-1716642000@www.tontitown.com
SUMMARY:Piazza-Mcfatridge-11-1
DESCRIPTION:JM\, Receipt #11841
URL:https://www.tontitown.com/event/piazza-mcfatridge-11-1/
LOCATION:Piazza – West Pavillion\, Tontitown\, AR\, 72762\, United States
CATEGORIES:Pavillion/Gazebo
END:VEVENT
BEGIN:VEVENT
DTSTART;TZID=America/Chicago:20240524T170000
DTEND;TZID=America/Chicago:20240524T200000
DTSTAMP:20260422T095023
CREATED:20240521T185714Z
LAST-MODIFIED:20240521T185714Z
UID:24507-1716570000-1716580800@www.tontitown.com
SUMMARY:Piazza-Benitez-5-8
DESCRIPTION:JM\, Receipt #11902
URL:https://www.tontitown.com/event/piazza-benitez-5-8/
LOCATION:Piazza – West Pavillion\, Tontitown\, AR\, 72762\, United States
CATEGORIES:Pavillion/Gazebo
END:VEVENT
BEGIN:VEVENT
DTSTART;TZID=America/Chicago:20240519T160000
DTEND;TZID=America/Chicago:20240519T200000
DTSTAMP:20260422T095023
CREATED:20240403T143047Z
LAST-MODIFIED:20240517T141114Z
UID:24149-1716134400-1716148800@www.tontitown.com
SUMMARY:Piazza- Bradford- 4-8pm
DESCRIPTION:JM\, Receipt #11667
URL:https://www.tontitown.com/event/hinshaw-bradford-4-8pm/
LOCATION:Piazza – West Pavillion\, Tontitown\, AR\, 72762\, United States
CATEGORIES:Pavillion/Gazebo
END:VEVENT
BEGIN:VEVENT
DTSTART;TZID=America/Chicago:20240519T120000
DTEND;TZID=America/Chicago:20240519T140000
DTSTAMP:20260422T095023
CREATED:20240409T163422Z
LAST-MODIFIED:20240409T163422Z
UID:24202-1716120000-1716127200@www.tontitown.com
SUMMARY:Piazza- Stinson- 12-2
DESCRIPTION:JM\, Receipt # 11712
URL:https://www.tontitown.com/event/piazza-stinson-12-2/
LOCATION:Piazza – West Pavillion\, Tontitown\, AR\, 72762\, United States
CATEGORIES:Pavillion/Gazebo
END:VEVENT
BEGIN:VEVENT
DTSTART;TZID=America/Chicago:20240414T140000
DTEND;TZID=America/Chicago:20240414T180000
DTSTAMP:20260422T095023
CREATED:20240410T213246Z
LAST-MODIFIED:20240410T213246Z
UID:24209-1713103200-1713117600@www.tontitown.com
SUMMARY:Piazza- Swaims- 2-6
DESCRIPTION:JM\, Receipt #11714
URL:https://www.tontitown.com/event/piazza-swaims-2-6/
LOCATION:Piazza – West Pavillion\, Tontitown\, AR\, 72762\, United States
CATEGORIES:Pavillion/Gazebo
END:VEVENT
BEGIN:VEVENT
DTSTART;TZID=America/Chicago:20240413T140000
DTEND;TZID=America/Chicago:20240413T160000
DTSTAMP:20260422T095023
CREATED:20240411T171319Z
LAST-MODIFIED:20240411T171319Z
UID:24220-1713016800-1713024000@www.tontitown.com
SUMMARY:Piazza-Jamie-2-4
DESCRIPTION:JM\, Receipt #11725
URL:https://www.tontitown.com/event/piazza-jamie-2-4/
LOCATION:Piazza – West Pavillion\, Tontitown\, AR\, 72762\, United States
CATEGORIES:Pavillion/Gazebo
END:VEVENT
BEGIN:VEVENT
DTSTART;TZID=America/Chicago:20240330T120000
DTEND;TZID=America/Chicago:20240330T150000
DTSTAMP:20260422T095023
CREATED:20240222T191558Z
LAST-MODIFIED:20240222T200553Z
UID:23408-1711800000-1711810800@www.tontitown.com
SUMMARY:Stevens-Piazza-12-3pm
DESCRIPTION:JM\, Receipt #11482
URL:https://www.tontitown.com/event/stevens-piazza-12-3pm/
LOCATION:Piazza – West Pavillion\, Tontitown\, AR\, 72762\, United States
CATEGORIES:Pavillion/Gazebo
END:VEVENT
BEGIN:VEVENT
DTSTART;TZID=America/Chicago:20240324T140000
DTEND;TZID=America/Chicago:20240324T160000
DTSTAMP:20260422T095023
CREATED:20240222T184945Z
LAST-MODIFIED:20240222T185003Z
UID:23405-1711288800-1711296000@www.tontitown.com
SUMMARY:Merrick-Piazza Pavilion-2-4pm
DESCRIPTION:JM\, Receipt #11481
URL:https://www.tontitown.com/event/merrick-piazza-pavilion-2-4/
LOCATION:Piazza – West Pavillion\, Tontitown\, AR\, 72762\, United States
CATEGORIES:Pavillion/Gazebo
END:VEVENT
BEGIN:VEVENT
DTSTART;TZID=America/Chicago:20210605T173000
DTEND;TZID=America/Chicago:20210605T213000
DTSTAMP:20260422T095023
CREATED:20200427T200917Z
LAST-MODIFIED:20200427T200917Z
UID:8699-1622914200-1622928600@www.tontitown.com
SUMMARY:Pianalto Family Reunion
DESCRIPTION:
URL:https://www.tontitown.com/event/pianalto-family-reunion-2/
LOCATION:Piazza – West Pavillion\, Tontitown\, AR\, 72762\, United States
CATEGORIES:Pavillion/Gazebo
END:VEVENT
BEGIN:VEVENT
DTSTART;TZID=America/Chicago:20200613T150000
DTEND;TZID=America/Chicago:20200613T170000
DTSTAMP:20260422T095023
CREATED:20200520T155050Z
LAST-MODIFIED:20200520T155050Z
UID:8930-1592060400-1592067600@www.tontitown.com
SUMMARY:Casey Robbins Park Reservation (Baby Shower)
DESCRIPTION:
URL:https://www.tontitown.com/event/casey-robbins-park-reservation-baby-shower/
LOCATION:Piazza – West Pavillion\, Tontitown\, AR\, 72762\, United States
CATEGORIES:Pavillion/Gazebo
END:VEVENT
BEGIN:VEVENT
DTSTART;TZID=America/Chicago:20200530T163000
DTEND;TZID=America/Chicago:20200530T190000
DTSTAMP:20260422T095023
CREATED:20200518T182504Z
LAST-MODIFIED:20200518T182504Z
UID:8899-1590856200-1590865200@www.tontitown.com
SUMMARY:Smith Reservation Gender Reveal
DESCRIPTION:
URL:https://www.tontitown.com/event/smith-reservation-gender-reveal/
LOCATION:Piazza – West Pavillion\, Tontitown\, AR\, 72762\, United States
CATEGORIES:Pavillion/Gazebo
END:VEVENT
END:VCALENDAR