BEGIN:VCALENDAR
VERSION:2.0
PRODID:-//City of Tontitown, Arkansas - ECPv6.15.13//NONSGML v1.0//EN
CALSCALE:GREGORIAN
METHOD:PUBLISH
X-WR-CALNAME:City of Tontitown, Arkansas
X-ORIGINAL-URL:https://www.tontitown.com
X-WR-CALDESC:Events for City of Tontitown, Arkansas
REFRESH-INTERVAL;VALUE=DURATION:PT1H
X-Robots-Tag:noindex
X-PUBLISHED-TTL:PT1H
BEGIN:VTIMEZONE
TZID:America/Chicago
BEGIN:DAYLIGHT
TZOFFSETFROM:-0600
TZOFFSETTO:-0500
TZNAME:CDT
DTSTART:20220313T080000
END:DAYLIGHT
BEGIN:STANDARD
TZOFFSETFROM:-0500
TZOFFSETTO:-0600
TZNAME:CST
DTSTART:20221106T070000
END:STANDARD
BEGIN:DAYLIGHT
TZOFFSETFROM:-0600
TZOFFSETTO:-0500
TZNAME:CDT
DTSTART:20230312T080000
END:DAYLIGHT
BEGIN:STANDARD
TZOFFSETFROM:-0500
TZOFFSETTO:-0600
TZNAME:CST
DTSTART:20231105T070000
END:STANDARD
BEGIN:DAYLIGHT
TZOFFSETFROM:-0600
TZOFFSETTO:-0500
TZNAME:CDT
DTSTART:20240310T080000
END:DAYLIGHT
BEGIN:STANDARD
TZOFFSETFROM:-0500
TZOFFSETTO:-0600
TZNAME:CST
DTSTART:20241103T070000
END:STANDARD
BEGIN:DAYLIGHT
TZOFFSETFROM:-0600
TZOFFSETTO:-0500
TZNAME:CDT
DTSTART:20250309T080000
END:DAYLIGHT
BEGIN:STANDARD
TZOFFSETFROM:-0500
TZOFFSETTO:-0600
TZNAME:CST
DTSTART:20251102T070000
END:STANDARD
END:VTIMEZONE
BEGIN:VEVENT
DTSTART;TZID=America/Chicago:20240806T080000
DTEND;TZID=America/Chicago:20240806T170000
DTSTAMP:20260424T204122
CREATED:20240216T193323Z
LAST-MODIFIED:20240320T192908Z
UID:23362-1722931200-1722963600@www.tontitown.com
SUMMARY:Grape Festival- St. Joseph's Catholic Church
DESCRIPTION:JM\, https://www.facebook.com/TontitownGrapeFestival
URL:https://www.tontitown.com/event/grape-festival-st-josephs-catholic-church/
LOCATION:St. Joseph’s Church\, 192 E. Henri De Tonti Blvd\, Tontitown\, AR\, 72762\, United States
CATEGORIES:City
END:VEVENT
BEGIN:VEVENT
DTSTART;TZID=America/Chicago:20231105T110000
DTEND;TZID=America/Chicago:20231105T133000
DTSTAMP:20260424T204122
CREATED:20231103T193145Z
LAST-MODIFIED:20231103T193145Z
UID:22764-1699182000-1699191000@www.tontitown.com
SUMMARY:21st Annual Tontitown Reunion and Old Fashioned Polenta Smear
DESCRIPTION:You are invited to join us for the 21st Annual Tontitown Reunion and Old-Fashioned Polenta Smear. We will have lunch that includes dishes provided by our generous sponsors. Go ahead and start watering up  for “A Taste of Tontitown” including:\n\n\nTraditional Polenta with\nVenesian Inn’s Umedo\nMama Z’s Lasagna\nGuido’s Spaghetti & Sauce\nRed Door’s Italian Sausage and Macaroni & Cheese\nRyan Pianalto’s Fresh baked bread\nRanalli Farm’s assortment of cookies\nTontitown Winery’s Tiramisu\nAn assortment of homemade deserts\nGluten-free and Vegetarian options\n\n\nSunday ~ November 5th\, 11:00am to 1:30pm ~ St. Joseph’s Church Parish Hall.
URL:https://www.tontitown.com/event/21st-annual-tontitown-reunion-and-old-fashioned-polenta-smear/
LOCATION:St. Joseph’s Church\, 192 E. Henri De Tonti Blvd\, Tontitown\, AR\, 72762\, United States
CATEGORIES:City
END:VEVENT
END:VCALENDAR