BEGIN:VCALENDAR
VERSION:2.0
PRODID:-//City of Tontitown, Arkansas - ECPv6.15.13//NONSGML v1.0//EN
CALSCALE:GREGORIAN
METHOD:PUBLISH
X-WR-CALNAME:City of Tontitown, Arkansas
X-ORIGINAL-URL:https://www.tontitown.com
X-WR-CALDESC:Events for City of Tontitown, Arkansas
REFRESH-INTERVAL;VALUE=DURATION:PT1H
X-Robots-Tag:noindex
X-PUBLISHED-TTL:PT1H
BEGIN:VTIMEZONE
TZID:America/Chicago
BEGIN:DAYLIGHT
TZOFFSETFROM:-0600
TZOFFSETTO:-0500
TZNAME:CDT
DTSTART:20200308T080000
END:DAYLIGHT
BEGIN:STANDARD
TZOFFSETFROM:-0500
TZOFFSETTO:-0600
TZNAME:CST
DTSTART:20201101T070000
END:STANDARD
BEGIN:DAYLIGHT
TZOFFSETFROM:-0600
TZOFFSETTO:-0500
TZNAME:CDT
DTSTART:20210314T080000
END:DAYLIGHT
BEGIN:STANDARD
TZOFFSETFROM:-0500
TZOFFSETTO:-0600
TZNAME:CST
DTSTART:20211107T070000
END:STANDARD
BEGIN:DAYLIGHT
TZOFFSETFROM:-0600
TZOFFSETTO:-0500
TZNAME:CDT
DTSTART:20220313T080000
END:DAYLIGHT
BEGIN:STANDARD
TZOFFSETFROM:-0500
TZOFFSETTO:-0600
TZNAME:CST
DTSTART:20221106T070000
END:STANDARD
BEGIN:DAYLIGHT
TZOFFSETFROM:-0600
TZOFFSETTO:-0500
TZNAME:CDT
DTSTART:20230312T080000
END:DAYLIGHT
BEGIN:STANDARD
TZOFFSETFROM:-0500
TZOFFSETTO:-0600
TZNAME:CST
DTSTART:20231105T070000
END:STANDARD
BEGIN:DAYLIGHT
TZOFFSETFROM:-0600
TZOFFSETTO:-0500
TZNAME:CDT
DTSTART:20240310T080000
END:DAYLIGHT
BEGIN:STANDARD
TZOFFSETFROM:-0500
TZOFFSETTO:-0600
TZNAME:CST
DTSTART:20241103T070000
END:STANDARD
BEGIN:DAYLIGHT
TZOFFSETFROM:-0600
TZOFFSETTO:-0500
TZNAME:CDT
DTSTART:20250309T080000
END:DAYLIGHT
BEGIN:STANDARD
TZOFFSETFROM:-0500
TZOFFSETTO:-0600
TZNAME:CST
DTSTART:20251102T070000
END:STANDARD
BEGIN:DAYLIGHT
TZOFFSETFROM:-0600
TZOFFSETTO:-0500
TZNAME:CDT
DTSTART:20260308T080000
END:DAYLIGHT
BEGIN:STANDARD
TZOFFSETFROM:-0500
TZOFFSETTO:-0600
TZNAME:CST
DTSTART:20261101T070000
END:STANDARD
END:VTIMEZONE
BEGIN:VEVENT
DTSTART;TZID=America/Chicago:20250426T130000
DTEND;TZID=America/Chicago:20250426T150000
DTSTAMP:20260419T230107
CREATED:20250401T182638Z
LAST-MODIFIED:20250401T182638Z
UID:26662-1745672400-1745679600@www.tontitown.com
SUMMARY:Penzo- Moore-1-3pm
DESCRIPTION:MP\, Receipt #13626
URL:https://www.tontitown.com/event/penzo-moore-1-3pm/
LOCATION:East/ Penzo Pavilion\, Tontitown\, AR\, 72762\, United States
CATEGORIES:Pavillion/Gazebo
END:VEVENT
BEGIN:VEVENT
DTSTART;TZID=America/Chicago:20241103T150000
DTEND;TZID=America/Chicago:20241103T180000
DTSTAMP:20260419T230107
CREATED:20241022T163252Z
LAST-MODIFIED:20241022T163252Z
UID:25603-1730646000-1730656800@www.tontitown.com
SUMMARY:Penzo-Franco Family Reunion-3-6pm
DESCRIPTION:JM
URL:https://www.tontitown.com/event/penzo-franco-family-reunion-3-6pm/
LOCATION:East/ Penzo Pavilion\, Tontitown\, AR\, 72762\, United States
CATEGORIES:Pavillion/Gazebo
END:VEVENT
BEGIN:VEVENT
DTSTART;TZID=America/Chicago:20240608T133000
DTEND;TZID=America/Chicago:20240608T183000
DTSTAMP:20260419T230107
CREATED:20240531T151932Z
LAST-MODIFIED:20240531T151932Z
UID:24584-1717853400-1717871400@www.tontitown.com
SUMMARY:Penzo-Taigu-1:30-6:30
DESCRIPTION:JM\, Receipt #11991
URL:https://www.tontitown.com/event/penzo-taigu-130-630/
LOCATION:East/ Penzo Pavilion\, Tontitown\, AR\, 72762\, United States
CATEGORIES:Pavillion/Gazebo
END:VEVENT
BEGIN:VEVENT
DTSTART;TZID=America/Chicago:20240519T130000
DTEND;TZID=America/Chicago:20240519T150000
DTSTAMP:20260419T230107
CREATED:20240426T142412Z
LAST-MODIFIED:20240426T142412Z
UID:24372-1716123600-1716130800@www.tontitown.com
SUMMARY:Penzo- Couch-1-3
DESCRIPTION:JM\, Receipt #11795
URL:https://www.tontitown.com/event/penzo-couch-1-3/
LOCATION:East/ Penzo Pavilion\, Tontitown\, AR\, 72762\, United States
CATEGORIES:Pavillion/Gazebo
END:VEVENT
BEGIN:VEVENT
DTSTART;TZID=America/Chicago:20240511T120000
DTEND;TZID=America/Chicago:20240511T150000
DTSTAMP:20260419T230107
CREATED:20240430T190012Z
LAST-MODIFIED:20240430T190012Z
UID:24416-1715428800-1715439600@www.tontitown.com
SUMMARY:Penzo- Humphrey-12-3pm
DESCRIPTION:JM\, Receipt #11809
URL:https://www.tontitown.com/event/penzo-humphrey-12-3pm/
LOCATION:East/ Penzo Pavilion\, Tontitown\, AR\, 72762\, United States
CATEGORIES:Pavillion/Gazebo
END:VEVENT
BEGIN:VEVENT
DTSTART;VALUE=DATE:20231031
DTEND;VALUE=DATE:20231101
DTSTAMP:20260419T230107
CREATED:20230106T195209Z
LAST-MODIFIED:20230106T195209Z
UID:19340-1698710400-1698796799@www.tontitown.com
SUMMARY:Halloween Pianalto
DESCRIPTION:
URL:https://www.tontitown.com/event/halloween-pianalto/
LOCATION:East/ Penzo Pavilion\, Tontitown\, AR\, 72762\, United States
CATEGORIES:Pavillion/Gazebo
END:VEVENT
BEGIN:VEVENT
DTSTART;TZID=America/Chicago:20230506T080000
DTEND;TZID=America/Chicago:20230506T130000
DTSTAMP:20260419T230107
CREATED:20230217T161635Z
LAST-MODIFIED:20230217T161635Z
UID:20525-1683360000-1683378000@www.tontitown.com
SUMMARY:Tontitown Market 8a-1p ( Penzo Pavilion )
DESCRIPTION:LS
URL:https://www.tontitown.com/event/tontitown-market-8a-1p-penzo-pavilion/2023-05-06/
LOCATION:East/ Penzo Pavilion\, Tontitown\, AR\, 72762\, United States
CATEGORIES:Farmers' Market
END:VEVENT
BEGIN:VEVENT
DTSTART;TZID=America/Chicago:20230408T090000
DTEND;TZID=America/Chicago:20230408T140000
DTSTAMP:20260419T230107
CREATED:20230126T192758Z
LAST-MODIFIED:20230126T192758Z
UID:19746-1680944400-1680962400@www.tontitown.com
SUMMARY:Brush Creek Baptist Church - Penzo
DESCRIPTION:LS
URL:https://www.tontitown.com/event/brush-creek-baptist-church-penzo/
LOCATION:East/ Penzo Pavilion\, Tontitown\, AR\, 72762\, United States
CATEGORIES:Pavillion/Gazebo
END:VEVENT
BEGIN:VEVENT
DTSTART;TZID=America/Chicago:20230311T100000
DTEND;TZID=America/Chicago:20230311T120000
DTSTAMP:20260419T230107
CREATED:20230221T200309Z
LAST-MODIFIED:20230221T200309Z
UID:20570-1678528800-1678536000@www.tontitown.com
SUMMARY:Pendergraft - Penzo 10a-12p
DESCRIPTION:LS \nReceipt number 9558
URL:https://www.tontitown.com/event/pendergraft-penzo-10a-12p/
LOCATION:East/ Penzo Pavilion\, Tontitown\, AR\, 72762\, United States
CATEGORIES:Pavillion/Gazebo
END:VEVENT
BEGIN:VEVENT
DTSTART;TZID=America/Chicago:20221031T080000
DTEND;TZID=America/Chicago:20221031T220000
DTSTAMP:20260419T230107
CREATED:20220310T222005Z
LAST-MODIFIED:20220310T222005Z
UID:16825-1667203200-1667253600@www.tontitown.com
SUMMARY:Halloween in the Park- Pianalto Booth (Penzo Pavilion)
DESCRIPTION:
URL:https://www.tontitown.com/event/halloween-in-the-park-pianalto-booth-penzo-pavilion/
LOCATION:East/ Penzo Pavilion\, Tontitown\, AR\, 72762\, United States
CATEGORIES:Pavillion/Gazebo
END:VEVENT
BEGIN:VEVENT
DTSTART;TZID=America/Chicago:20220911T133000
DTEND;TZID=America/Chicago:20220911T153000
DTSTAMP:20260419T230107
CREATED:20220909T184456Z
LAST-MODIFIED:20220909T184456Z
UID:18731-1662903000-1662910200@www.tontitown.com
SUMMARY:Bausinger-Penzo 130p-330p
DESCRIPTION:
URL:https://www.tontitown.com/event/bausinger-penzo-130p-330p/
LOCATION:East/ Penzo Pavilion\, Tontitown\, AR\, 72762\, United States
CATEGORIES:Pavillion/Gazebo
END:VEVENT
BEGIN:VEVENT
DTSTART;TZID=America/Chicago:20220723T150000
DTEND;TZID=America/Chicago:20220723T210000
DTSTAMP:20260419T230107
CREATED:20220711T211801Z
LAST-MODIFIED:20220711T211801Z
UID:18195-1658588400-1658610000@www.tontitown.com
SUMMARY:Family Reunion - Penzo
DESCRIPTION:Approved 7-11-2022 \nPaid 7-11-2022 \nCalendar 7-11-2022
URL:https://www.tontitown.com/event/family-reunion-penzo/
LOCATION:East/ Penzo Pavilion\, Tontitown\, AR\, 72762\, United States
CATEGORIES:Pavillion/Gazebo
END:VEVENT
BEGIN:VEVENT
DTSTART;TZID=America/Chicago:20220723T090000
DTEND;TZID=America/Chicago:20220723T150000
DTSTAMP:20260419T230107
CREATED:20220711T211406Z
LAST-MODIFIED:20220711T211629Z
UID:18190-1658566800-1658588400@www.tontitown.com
SUMMARY:Family Reunion - Penzo
DESCRIPTION:Approved: 7-11-2022 \nPaid: 7-11-2022 \nCalendar: 7-11-2022
URL:https://www.tontitown.com/event/family-reunion/
LOCATION:East/ Penzo Pavilion\, Tontitown\, AR\, 72762\, United States
CATEGORIES:Pavillion/Gazebo
END:VEVENT
BEGIN:VEVENT
DTSTART;TZID=America/Chicago:20211010T120000
DTEND;TZID=America/Chicago:20211010T150000
DTSTAMP:20260419T230107
CREATED:20211007T185011Z
LAST-MODIFIED:20211007T185011Z
UID:15617-1633867200-1633878000@www.tontitown.com
SUMMARY:Drain Park Reservation (12pm-3pm Penzo Pavilion)
DESCRIPTION:
URL:https://www.tontitown.com/event/drain-park-reservation-12pm-3pm-penzo-pavilion/
LOCATION:East/ Penzo Pavilion\, Tontitown\, AR\, 72762\, United States
CATEGORIES:Pavillion/Gazebo
END:VEVENT
BEGIN:VEVENT
DTSTART;TZID=America/Chicago:20211002T160000
DTEND;TZID=America/Chicago:20211002T190000
DTSTAMP:20260419T230107
CREATED:20210707T210738Z
LAST-MODIFIED:20210707T210738Z
UID:13176-1633190400-1633201200@www.tontitown.com
SUMMARY:Cross Church Small Group Picnic (4pm-7pm East/Penzo Pavilion)
DESCRIPTION:
URL:https://www.tontitown.com/event/cross-church-small-group-picnic-4pm-7pm-east-penzo-pavilion/
LOCATION:East/ Penzo Pavilion\, Tontitown\, AR\, 72762\, United States
CATEGORIES:Pavillion/Gazebo
END:VEVENT
BEGIN:VEVENT
DTSTART;TZID=America/Chicago:20210905T160000
DTEND;TZID=America/Chicago:20210905T200000
DTSTAMP:20260419T230107
CREATED:20210903T131038Z
LAST-MODIFIED:20210903T131038Z
UID:15269-1630857600-1630872000@www.tontitown.com
SUMMARY:Barrera Park Reservation (4pm-8pm Penzo Pavilion)
DESCRIPTION:
URL:https://www.tontitown.com/event/barrera-park-reservation-4pm-8pm-penzo-pavilion/
LOCATION:East/ Penzo Pavilion\, Tontitown\, AR\, 72762\, United States
CATEGORIES:Pavillion/Gazebo
END:VEVENT
BEGIN:VEVENT
DTSTART;TZID=America/Chicago:20210822T140000
DTEND;TZID=America/Chicago:20210822T160000
DTSTAMP:20260419T230107
CREATED:20210806T164307Z
LAST-MODIFIED:20210806T164307Z
UID:15080-1629640800-1629648000@www.tontitown.com
SUMMARY:Team Swish Cookout Park Reservation (2pm-4pm Penzo Pavilion)
DESCRIPTION:
URL:https://www.tontitown.com/event/team-swish-cookout-park-reservation-2pm-4pm-penzo-pavilion/
LOCATION:East/ Penzo Pavilion\, Tontitown\, AR\, 72762\, United States
CATEGORIES:Pavillion/Gazebo
END:VEVENT
BEGIN:VEVENT
DTSTART;TZID=America/Chicago:20210725T160000
DTEND;TZID=America/Chicago:20210725T180000
DTSTAMP:20260419T230107
CREATED:20210623T155806Z
LAST-MODIFIED:20210623T155806Z
UID:13099-1627228800-1627236000@www.tontitown.com
SUMMARY:NWA Foul Air Volkswagen Car Club Picnic
DESCRIPTION:
URL:https://www.tontitown.com/event/nwa-foul-air-volkswagen-car-club-picnic/
LOCATION:East/ Penzo Pavilion\, Tontitown\, AR\, 72762\, United States
CATEGORIES:Pavillion/Gazebo
END:VEVENT
END:VCALENDAR