BEGIN:VCALENDAR
VERSION:2.0
PRODID:-//City of Tontitown, Arkansas - ECPv6.15.13//NONSGML v1.0//EN
CALSCALE:GREGORIAN
METHOD:PUBLISH
X-WR-CALNAME:City of Tontitown, Arkansas
X-ORIGINAL-URL:https://www.tontitown.com
X-WR-CALDESC:Events for City of Tontitown, Arkansas
REFRESH-INTERVAL;VALUE=DURATION:PT1H
X-Robots-Tag:noindex
X-PUBLISHED-TTL:PT1H
BEGIN:VTIMEZONE
TZID:America/Chicago
BEGIN:DAYLIGHT
TZOFFSETFROM:-0600
TZOFFSETTO:-0500
TZNAME:CDT
DTSTART:20220313T080000
END:DAYLIGHT
BEGIN:STANDARD
TZOFFSETFROM:-0500
TZOFFSETTO:-0600
TZNAME:CST
DTSTART:20221106T070000
END:STANDARD
BEGIN:DAYLIGHT
TZOFFSETFROM:-0600
TZOFFSETTO:-0500
TZNAME:CDT
DTSTART:20230312T080000
END:DAYLIGHT
BEGIN:STANDARD
TZOFFSETFROM:-0500
TZOFFSETTO:-0600
TZNAME:CST
DTSTART:20231105T070000
END:STANDARD
BEGIN:DAYLIGHT
TZOFFSETFROM:-0600
TZOFFSETTO:-0500
TZNAME:CDT
DTSTART:20240310T080000
END:DAYLIGHT
BEGIN:STANDARD
TZOFFSETFROM:-0500
TZOFFSETTO:-0600
TZNAME:CST
DTSTART:20241103T070000
END:STANDARD
BEGIN:DAYLIGHT
TZOFFSETFROM:-0600
TZOFFSETTO:-0500
TZNAME:CDT
DTSTART:20250309T080000
END:DAYLIGHT
BEGIN:STANDARD
TZOFFSETFROM:-0500
TZOFFSETTO:-0600
TZNAME:CST
DTSTART:20251102T070000
END:STANDARD
END:VTIMEZONE
BEGIN:VEVENT
DTSTART;TZID=America/Chicago:20240601T080000
DTEND;TZID=America/Chicago:20240601T130000
DTSTAMP:20260421T021544
CREATED:20240430T153348Z
LAST-MODIFIED:20240430T153348Z
UID:24390-1717228800-1717246800@www.tontitown.com
SUMMARY:Tontitown Market 2024
DESCRIPTION:Every Saturday; 8am- 1pm; May 4th-October 12th
URL:https://www.tontitown.com/event/tontitown-market-2024/2024-06-01/
LOCATION:City Park\, City Park
CATEGORIES:Farmers' Market
END:VEVENT
BEGIN:VEVENT
DTSTART;TZID=America/Chicago:20240525T080000
DTEND;TZID=America/Chicago:20240525T130000
DTSTAMP:20260421T021544
CREATED:20240430T153348Z
LAST-MODIFIED:20240430T153348Z
UID:24389-1716624000-1716642000@www.tontitown.com
SUMMARY:Tontitown Market 2024
DESCRIPTION:Every Saturday; 8am- 1pm; May 4th-October 12th
URL:https://www.tontitown.com/event/tontitown-market-2024/2024-05-25/
LOCATION:City Park\, City Park
CATEGORIES:Farmers' Market
END:VEVENT
BEGIN:VEVENT
DTSTART;TZID=America/Chicago:20240518T080000
DTEND;TZID=America/Chicago:20240518T130000
DTSTAMP:20260421T021544
CREATED:20240430T153348Z
LAST-MODIFIED:20240430T153348Z
UID:24388-1716019200-1716037200@www.tontitown.com
SUMMARY:Tontitown Market 2024
DESCRIPTION:Every Saturday; 8am- 1pm; May 4th-October 12th
URL:https://www.tontitown.com/event/tontitown-market-2024/2024-05-18/
LOCATION:City Park\, City Park
CATEGORIES:Farmers' Market
END:VEVENT
BEGIN:VEVENT
DTSTART;TZID=America/Chicago:20240511T080000
DTEND;TZID=America/Chicago:20240511T130000
DTSTAMP:20260421T021544
CREATED:20240430T153348Z
LAST-MODIFIED:20240430T153348Z
UID:24387-1715414400-1715432400@www.tontitown.com
SUMMARY:Tontitown Market 2024
DESCRIPTION:Every Saturday; 8am- 1pm; May 4th-October 12th
URL:https://www.tontitown.com/event/tontitown-market-2024/2024-05-11/
LOCATION:City Park\, City Park
CATEGORIES:Farmers' Market
END:VEVENT
BEGIN:VEVENT
DTSTART;TZID=America/Chicago:20240504T080000
DTEND;TZID=America/Chicago:20240504T130000
DTSTAMP:20260421T021544
CREATED:20240430T153348Z
LAST-MODIFIED:20240430T153348Z
UID:24386-1714809600-1714827600@www.tontitown.com
SUMMARY:Tontitown Market 2024
DESCRIPTION:Every Saturday; 8am- 1pm; May 4th-October 12th
URL:https://www.tontitown.com/event/tontitown-market-2024/2024-05-04/
LOCATION:City Park\, City Park
CATEGORIES:Farmers' Market
END:VEVENT
BEGIN:VEVENT
DTSTART;TZID=America/Chicago:20230715T190000
DTEND;TZID=America/Chicago:20230715T220000
DTSTAMP:20260421T021544
CREATED:20230606T165931Z
LAST-MODIFIED:20230606T165931Z
UID:21415-1689447600-1689458400@www.tontitown.com
SUMMARY:Car Meet
DESCRIPTION:More Information to come
URL:https://www.tontitown.com/event/car-meet/
LOCATION:City Park\, City Park
CATEGORIES:Event
END:VEVENT
END:VCALENDAR