BEGIN:VCALENDAR
VERSION:2.0
PRODID:-//City of Tontitown, Arkansas - ECPv6.15.13//NONSGML v1.0//EN
CALSCALE:GREGORIAN
METHOD:PUBLISH
X-WR-CALNAME:City of Tontitown, Arkansas
X-ORIGINAL-URL:https://www.tontitown.com
X-WR-CALDESC:Events for City of Tontitown, Arkansas
REFRESH-INTERVAL;VALUE=DURATION:PT1H
X-Robots-Tag:noindex
X-PUBLISHED-TTL:PT1H
BEGIN:VTIMEZONE
TZID:America/Chicago
BEGIN:DAYLIGHT
TZOFFSETFROM:-0600
TZOFFSETTO:-0500
TZNAME:CDT
DTSTART:20220313T080000
END:DAYLIGHT
BEGIN:STANDARD
TZOFFSETFROM:-0500
TZOFFSETTO:-0600
TZNAME:CST
DTSTART:20221106T070000
END:STANDARD
BEGIN:DAYLIGHT
TZOFFSETFROM:-0600
TZOFFSETTO:-0500
TZNAME:CDT
DTSTART:20230312T080000
END:DAYLIGHT
BEGIN:STANDARD
TZOFFSETFROM:-0500
TZOFFSETTO:-0600
TZNAME:CST
DTSTART:20231105T070000
END:STANDARD
BEGIN:DAYLIGHT
TZOFFSETFROM:-0600
TZOFFSETTO:-0500
TZNAME:CDT
DTSTART:20240310T080000
END:DAYLIGHT
BEGIN:STANDARD
TZOFFSETFROM:-0500
TZOFFSETTO:-0600
TZNAME:CST
DTSTART:20241103T070000
END:STANDARD
BEGIN:DAYLIGHT
TZOFFSETFROM:-0600
TZOFFSETTO:-0500
TZNAME:CDT
DTSTART:20250309T080000
END:DAYLIGHT
BEGIN:STANDARD
TZOFFSETFROM:-0500
TZOFFSETTO:-0600
TZNAME:CST
DTSTART:20251102T070000
END:STANDARD
END:VTIMEZONE
BEGIN:VEVENT
DTSTART;TZID=America/Chicago:20240817T080000
DTEND;TZID=America/Chicago:20240817T130000
DTSTAMP:20260420T231027
CREATED:20240430T153348Z
LAST-MODIFIED:20240430T153348Z
UID:24402-1723881600-1723899600@www.tontitown.com
SUMMARY:Tontitown Market 2024
DESCRIPTION:Every Saturday; 8am- 1pm; May 4th-October 12th
URL:https://www.tontitown.com/event/tontitown-market-2024/2024-08-17/
LOCATION:City Park\, City Park
CATEGORIES:Farmers' Market
END:VEVENT
BEGIN:VEVENT
DTSTART;TZID=America/Chicago:20240810T080000
DTEND;TZID=America/Chicago:20240810T130000
DTSTAMP:20260420T231027
CREATED:20240430T153348Z
LAST-MODIFIED:20240430T153348Z
UID:24401-1723276800-1723294800@www.tontitown.com
SUMMARY:Tontitown Market 2024
DESCRIPTION:Every Saturday; 8am- 1pm; May 4th-October 12th
URL:https://www.tontitown.com/event/tontitown-market-2024/2024-08-10/
LOCATION:City Park\, City Park
CATEGORIES:Farmers' Market
END:VEVENT
BEGIN:VEVENT
DTSTART;TZID=America/Chicago:20240803T080000
DTEND;TZID=America/Chicago:20240803T130000
DTSTAMP:20260420T231027
CREATED:20240430T153348Z
LAST-MODIFIED:20240430T153348Z
UID:24400-1722672000-1722690000@www.tontitown.com
SUMMARY:Tontitown Market 2024
DESCRIPTION:Every Saturday; 8am- 1pm; May 4th-October 12th
URL:https://www.tontitown.com/event/tontitown-market-2024/2024-08-03/
LOCATION:City Park\, City Park
CATEGORIES:Farmers' Market
END:VEVENT
BEGIN:VEVENT
DTSTART;TZID=America/Chicago:20240727T080000
DTEND;TZID=America/Chicago:20240727T130000
DTSTAMP:20260420T231027
CREATED:20240430T153348Z
LAST-MODIFIED:20240430T153348Z
UID:24399-1722067200-1722085200@www.tontitown.com
SUMMARY:Tontitown Market 2024
DESCRIPTION:Every Saturday; 8am- 1pm; May 4th-October 12th
URL:https://www.tontitown.com/event/tontitown-market-2024/2024-07-27/
LOCATION:City Park\, City Park
CATEGORIES:Farmers' Market
END:VEVENT
BEGIN:VEVENT
DTSTART;TZID=America/Chicago:20240720T080000
DTEND;TZID=America/Chicago:20240720T130000
DTSTAMP:20260420T231027
CREATED:20240430T153348Z
LAST-MODIFIED:20240430T153348Z
UID:24398-1721462400-1721480400@www.tontitown.com
SUMMARY:Tontitown Market 2024
DESCRIPTION:Every Saturday; 8am- 1pm; May 4th-October 12th
URL:https://www.tontitown.com/event/tontitown-market-2024/2024-07-20/
LOCATION:City Park\, City Park
CATEGORIES:Farmers' Market
END:VEVENT
BEGIN:VEVENT
DTSTART;TZID=America/Chicago:20240713T080000
DTEND;TZID=America/Chicago:20240713T130000
DTSTAMP:20260420T231027
CREATED:20240430T153348Z
LAST-MODIFIED:20240430T153348Z
UID:24396-1720857600-1720875600@www.tontitown.com
SUMMARY:Tontitown Market 2024
DESCRIPTION:Every Saturday; 8am- 1pm; May 4th-October 12th
URL:https://www.tontitown.com/event/tontitown-market-2024/2024-07-13/
LOCATION:City Park\, City Park
CATEGORIES:Farmers' Market
END:VEVENT
BEGIN:VEVENT
DTSTART;TZID=America/Chicago:20240706T080000
DTEND;TZID=America/Chicago:20240706T130000
DTSTAMP:20260420T231027
CREATED:20240430T153348Z
LAST-MODIFIED:20240430T153348Z
UID:24395-1720252800-1720270800@www.tontitown.com
SUMMARY:Tontitown Market 2024
DESCRIPTION:Every Saturday; 8am- 1pm; May 4th-October 12th
URL:https://www.tontitown.com/event/tontitown-market-2024/2024-07-06/
LOCATION:City Park\, City Park
CATEGORIES:Farmers' Market
END:VEVENT
BEGIN:VEVENT
DTSTART;TZID=America/Chicago:20240629T080000
DTEND;TZID=America/Chicago:20240629T130000
DTSTAMP:20260420T231027
CREATED:20240430T153348Z
LAST-MODIFIED:20240430T153348Z
UID:24394-1719648000-1719666000@www.tontitown.com
SUMMARY:Tontitown Market 2024
DESCRIPTION:Every Saturday; 8am- 1pm; May 4th-October 12th
URL:https://www.tontitown.com/event/tontitown-market-2024/2024-06-29/
LOCATION:City Park\, City Park
CATEGORIES:Farmers' Market
END:VEVENT
BEGIN:VEVENT
DTSTART;TZID=America/Chicago:20240622T080000
DTEND;TZID=America/Chicago:20240622T130000
DTSTAMP:20260420T231027
CREATED:20240430T153348Z
LAST-MODIFIED:20240430T153348Z
UID:24393-1719043200-1719061200@www.tontitown.com
SUMMARY:Tontitown Market 2024
DESCRIPTION:Every Saturday; 8am- 1pm; May 4th-October 12th
URL:https://www.tontitown.com/event/tontitown-market-2024/2024-06-22/
LOCATION:City Park\, City Park
CATEGORIES:Farmers' Market
END:VEVENT
BEGIN:VEVENT
DTSTART;TZID=America/Chicago:20240615T080000
DTEND;TZID=America/Chicago:20240615T130000
DTSTAMP:20260420T231027
CREATED:20240430T153348Z
LAST-MODIFIED:20240430T153348Z
UID:24392-1718438400-1718456400@www.tontitown.com
SUMMARY:Tontitown Market 2024
DESCRIPTION:Every Saturday; 8am- 1pm; May 4th-October 12th
URL:https://www.tontitown.com/event/tontitown-market-2024/2024-06-15/
LOCATION:City Park\, City Park
CATEGORIES:Farmers' Market
END:VEVENT
BEGIN:VEVENT
DTSTART;TZID=America/Chicago:20240608T080000
DTEND;TZID=America/Chicago:20240608T130000
DTSTAMP:20260420T231027
CREATED:20240430T153348Z
LAST-MODIFIED:20240430T153348Z
UID:24391-1717833600-1717851600@www.tontitown.com
SUMMARY:Tontitown Market 2024
DESCRIPTION:Every Saturday; 8am- 1pm; May 4th-October 12th
URL:https://www.tontitown.com/event/tontitown-market-2024/2024-06-08/
LOCATION:City Park\, City Park
CATEGORIES:Farmers' Market
END:VEVENT
BEGIN:VEVENT
DTSTART;TZID=America/Chicago:20240602T100000
DTEND;TZID=America/Chicago:20240602T140000
DTSTAMP:20260420T231027
CREATED:20240216T193020Z
LAST-MODIFIED:20240320T220724Z
UID:23360-1717322400-1717336800@www.tontitown.com
SUMMARY:Tontitown Heritage Day
DESCRIPTION:JM\, Historical Museum
URL:https://www.tontitown.com/event/tontitown-heritage-day/
LOCATION:City Park\, City Park
CATEGORIES:City
END:VEVENT
BEGIN:VEVENT
DTSTART;TZID=America/Chicago:20240601T080000
DTEND;TZID=America/Chicago:20240601T130000
DTSTAMP:20260420T231027
CREATED:20240430T153348Z
LAST-MODIFIED:20240430T153348Z
UID:24390-1717228800-1717246800@www.tontitown.com
SUMMARY:Tontitown Market 2024
DESCRIPTION:Every Saturday; 8am- 1pm; May 4th-October 12th
URL:https://www.tontitown.com/event/tontitown-market-2024/2024-06-01/
LOCATION:City Park\, City Park
CATEGORIES:Farmers' Market
END:VEVENT
BEGIN:VEVENT
DTSTART;TZID=America/Chicago:20240525T080000
DTEND;TZID=America/Chicago:20240525T130000
DTSTAMP:20260420T231027
CREATED:20240430T153348Z
LAST-MODIFIED:20240430T153348Z
UID:24389-1716624000-1716642000@www.tontitown.com
SUMMARY:Tontitown Market 2024
DESCRIPTION:Every Saturday; 8am- 1pm; May 4th-October 12th
URL:https://www.tontitown.com/event/tontitown-market-2024/2024-05-25/
LOCATION:City Park\, City Park
CATEGORIES:Farmers' Market
END:VEVENT
BEGIN:VEVENT
DTSTART;TZID=America/Chicago:20240518T080000
DTEND;TZID=America/Chicago:20240518T130000
DTSTAMP:20260420T231027
CREATED:20240430T153348Z
LAST-MODIFIED:20240430T153348Z
UID:24388-1716019200-1716037200@www.tontitown.com
SUMMARY:Tontitown Market 2024
DESCRIPTION:Every Saturday; 8am- 1pm; May 4th-October 12th
URL:https://www.tontitown.com/event/tontitown-market-2024/2024-05-18/
LOCATION:City Park\, City Park
CATEGORIES:Farmers' Market
END:VEVENT
BEGIN:VEVENT
DTSTART;TZID=America/Chicago:20240511T080000
DTEND;TZID=America/Chicago:20240511T130000
DTSTAMP:20260420T231027
CREATED:20240430T153348Z
LAST-MODIFIED:20240430T153348Z
UID:24387-1715414400-1715432400@www.tontitown.com
SUMMARY:Tontitown Market 2024
DESCRIPTION:Every Saturday; 8am- 1pm; May 4th-October 12th
URL:https://www.tontitown.com/event/tontitown-market-2024/2024-05-11/
LOCATION:City Park\, City Park
CATEGORIES:Farmers' Market
END:VEVENT
BEGIN:VEVENT
DTSTART;TZID=America/Chicago:20240504T080000
DTEND;TZID=America/Chicago:20240504T130000
DTSTAMP:20260420T231027
CREATED:20240430T153348Z
LAST-MODIFIED:20240430T153348Z
UID:24386-1714809600-1714827600@www.tontitown.com
SUMMARY:Tontitown Market 2024
DESCRIPTION:Every Saturday; 8am- 1pm; May 4th-October 12th
URL:https://www.tontitown.com/event/tontitown-market-2024/2024-05-04/
LOCATION:City Park\, City Park
CATEGORIES:Farmers' Market
END:VEVENT
BEGIN:VEVENT
DTSTART;TZID=America/Chicago:20230715T190000
DTEND;TZID=America/Chicago:20230715T220000
DTSTAMP:20260420T231027
CREATED:20230606T165931Z
LAST-MODIFIED:20230606T165931Z
UID:21415-1689447600-1689458400@www.tontitown.com
SUMMARY:Car Meet
DESCRIPTION:More Information to come
URL:https://www.tontitown.com/event/car-meet/
LOCATION:City Park\, City Park
CATEGORIES:Event
END:VEVENT
END:VCALENDAR