BEGIN:VCALENDAR
VERSION:2.0
PRODID:-//City of Tontitown, Arkansas - ECPv6.15.13//NONSGML v1.0//EN
CALSCALE:GREGORIAN
METHOD:PUBLISH
X-ORIGINAL-URL:https://www.tontitown.com
X-WR-CALDESC:Events for City of Tontitown, Arkansas
REFRESH-INTERVAL;VALUE=DURATION:PT1H
X-Robots-Tag:noindex
X-PUBLISHED-TTL:PT1H
BEGIN:VTIMEZONE
TZID:America/Chicago
BEGIN:DAYLIGHT
TZOFFSETFROM:-0600
TZOFFSETTO:-0500
TZNAME:CDT
DTSTART:20210314T080000
END:DAYLIGHT
BEGIN:STANDARD
TZOFFSETFROM:-0500
TZOFFSETTO:-0600
TZNAME:CST
DTSTART:20211107T070000
END:STANDARD
BEGIN:DAYLIGHT
TZOFFSETFROM:-0600
TZOFFSETTO:-0500
TZNAME:CDT
DTSTART:20220313T080000
END:DAYLIGHT
BEGIN:STANDARD
TZOFFSETFROM:-0500
TZOFFSETTO:-0600
TZNAME:CST
DTSTART:20221106T070000
END:STANDARD
BEGIN:DAYLIGHT
TZOFFSETFROM:-0600
TZOFFSETTO:-0500
TZNAME:CDT
DTSTART:20230312T080000
END:DAYLIGHT
BEGIN:STANDARD
TZOFFSETFROM:-0500
TZOFFSETTO:-0600
TZNAME:CST
DTSTART:20231105T070000
END:STANDARD
END:VTIMEZONE
BEGIN:VEVENT
DTSTART;TZID=America/Chicago:20221106T110000
DTEND;TZID=America/Chicago:20221106T133000
DTSTAMP:20260422T170026
CREATED:20221031T145857Z
LAST-MODIFIED:20221031T145857Z
UID:18997-1667732400-1667741400@www.tontitown.com
SUMMARY:Taste of Tontitown
DESCRIPTION:The 20th Annual Tontitown Reunion and Old-Fashioned Polenta Smear\, the Taste of Tontitown\, will be held Sunday\, November 6th at the St. Joseph’s Church Parish Hall from 11:00 am to 1:30 pm. The church is located at 192 E. Henri De Tonti Blvd. Come celebrate the Tontitown community of yesterday and today! \nGo to our event page for more info: \n20th Annual Tontitown Reunion & Polenta Smear \n \n 
URL:https://www.tontitown.com/event/taste-of-tontitown/
CATEGORIES:Museum
END:VEVENT
END:VCALENDAR