BEGIN:VCALENDAR
VERSION:2.0
PRODID:-//City of Tontitown, Arkansas - ECPv6.15.13//NONSGML v1.0//EN
CALSCALE:GREGORIAN
METHOD:PUBLISH
X-ORIGINAL-URL:https://www.tontitown.com
X-WR-CALDESC:Events for City of Tontitown, Arkansas
REFRESH-INTERVAL;VALUE=DURATION:PT1H
X-Robots-Tag:noindex
X-PUBLISHED-TTL:PT1H
BEGIN:VTIMEZONE
TZID:America/Chicago
BEGIN:DAYLIGHT
TZOFFSETFROM:-0600
TZOFFSETTO:-0500
TZNAME:CDT
DTSTART:20230312T080000
END:DAYLIGHT
BEGIN:STANDARD
TZOFFSETFROM:-0500
TZOFFSETTO:-0600
TZNAME:CST
DTSTART:20231105T070000
END:STANDARD
BEGIN:DAYLIGHT
TZOFFSETFROM:-0600
TZOFFSETTO:-0500
TZNAME:CDT
DTSTART:20240310T080000
END:DAYLIGHT
BEGIN:STANDARD
TZOFFSETFROM:-0500
TZOFFSETTO:-0600
TZNAME:CST
DTSTART:20241103T070000
END:STANDARD
BEGIN:DAYLIGHT
TZOFFSETFROM:-0600
TZOFFSETTO:-0500
TZNAME:CDT
DTSTART:20250309T080000
END:DAYLIGHT
BEGIN:STANDARD
TZOFFSETFROM:-0500
TZOFFSETTO:-0600
TZNAME:CST
DTSTART:20251102T070000
END:STANDARD
END:VTIMEZONE
BEGIN:VEVENT
DTSTART;TZID=America/Chicago:20241202T180000
DTEND;TZID=America/Chicago:20241202T190000
DTSTAMP:20260423T151130
CREATED:20211217T142337Z
LAST-MODIFIED:20211217T142337Z
UID:19181-1733162400-1733166000@www.tontitown.com
SUMMARY:Museum Board Meeting
DESCRIPTION:
URL:https://www.tontitown.com/event/museum-board-meeting-2/2024-12-02/
LOCATION:City Hall\, 235 E Henri de Tonti Blvd\, Tontitown\, AR\, 72762\, United States
CATEGORIES:Museum
END:VEVENT
BEGIN:VEVENT
DTSTART;TZID=America/Chicago:20241203T180000
DTEND;TZID=America/Chicago:20241203T200000
DTSTAMP:20260423T151130
CREATED:20230109T161656Z
LAST-MODIFIED:20240320T191919Z
UID:19448-1733248800-1733256000@www.tontitown.com
SUMMARY:Committee of the Whole Meeting
DESCRIPTION:
URL:https://www.tontitown.com/event/committee-of-the-whole-meeting-2/2024-12-03/
LOCATION:City Hall\, 235 E Henri de Tonti Blvd\, Tontitown\, AR\, 72762\, United States
CATEGORIES:City
END:VEVENT
BEGIN:VEVENT
DTSTART;TZID=America/Chicago:20241203T180000
DTEND;TZID=America/Chicago:20241203T200000
DTSTAMP:20260423T151130
CREATED:20241031T173753Z
LAST-MODIFIED:20241031T173753Z
UID:25673-1733248800-1733256000@www.tontitown.com
SUMMARY:NWA SOX 11u- Garrison- Tuesdays/Thursdays 6-8pm
DESCRIPTION:JM\, Kelli McGarrah
URL:https://www.tontitown.com/event/nwa-sox-11u-garrison-tuesdays-thursdays-6-8pm/2024-12-03/
LOCATION:Baseball Field\, 235 E. Henri De Tonti Blvd\, Tontitown\, AR\, 72762\, United States
CATEGORIES:Baseball
END:VEVENT
BEGIN:VEVENT
DTSTART;TZID=America/Chicago:20241205T180000
DTEND;TZID=America/Chicago:20241205T200000
DTSTAMP:20260423T151130
CREATED:20241031T173753Z
LAST-MODIFIED:20241031T173753Z
UID:25674-1733421600-1733428800@www.tontitown.com
SUMMARY:NWA SOX 11u- Garrison- Tuesdays/Thursdays 6-8pm
DESCRIPTION:JM\, Kelli McGarrah
URL:https://www.tontitown.com/event/nwa-sox-11u-garrison-tuesdays-thursdays-6-8pm/2024-12-05/
LOCATION:Baseball Field\, 235 E. Henri De Tonti Blvd\, Tontitown\, AR\, 72762\, United States
CATEGORIES:Baseball
END:VEVENT
BEGIN:VEVENT
DTSTART;TZID=America/Chicago:20241210T180000
DTEND;TZID=America/Chicago:20241210T200000
DTSTAMP:20260423T151130
CREATED:20241031T173753Z
LAST-MODIFIED:20241031T173753Z
UID:25675-1733853600-1733860800@www.tontitown.com
SUMMARY:NWA SOX 11u- Garrison- Tuesdays/Thursdays 6-8pm
DESCRIPTION:JM\, Kelli McGarrah
URL:https://www.tontitown.com/event/nwa-sox-11u-garrison-tuesdays-thursdays-6-8pm/2024-12-10/
LOCATION:Baseball Field\, 235 E. Henri De Tonti Blvd\, Tontitown\, AR\, 72762\, United States
CATEGORIES:Baseball
END:VEVENT
BEGIN:VEVENT
DTSTART;TZID=America/Chicago:20241212T180000
DTEND;TZID=America/Chicago:20241212T200000
DTSTAMP:20260423T151130
CREATED:20241031T173753Z
LAST-MODIFIED:20241031T173753Z
UID:25677-1734026400-1734033600@www.tontitown.com
SUMMARY:NWA SOX 11u- Garrison- Tuesdays/Thursdays 6-8pm
DESCRIPTION:JM\, Kelli McGarrah
URL:https://www.tontitown.com/event/nwa-sox-11u-garrison-tuesdays-thursdays-6-8pm/2024-12-12/
LOCATION:Baseball Field\, 235 E. Henri De Tonti Blvd\, Tontitown\, AR\, 72762\, United States
CATEGORIES:Baseball
END:VEVENT
BEGIN:VEVENT
DTSTART;TZID=America/Chicago:20241217T180000
DTEND;TZID=America/Chicago:20241217T200000
DTSTAMP:20260423T151130
CREATED:20230110T161343Z
LAST-MODIFIED:20240320T191815Z
UID:19499-1734458400-1734465600@www.tontitown.com
SUMMARY:City Council Meeting
DESCRIPTION:
URL:https://www.tontitown.com/event/city-council-meeting/2024-12-17/
LOCATION:City Hall\, 235 E Henri de Tonti Blvd\, Tontitown\, AR\, 72762\, United States
CATEGORIES:City
END:VEVENT
BEGIN:VEVENT
DTSTART;TZID=America/Chicago:20241217T180000
DTEND;TZID=America/Chicago:20241217T200000
DTSTAMP:20260423T151130
CREATED:20241031T173753Z
LAST-MODIFIED:20241031T173753Z
UID:25678-1734458400-1734465600@www.tontitown.com
SUMMARY:NWA SOX 11u- Garrison- Tuesdays/Thursdays 6-8pm
DESCRIPTION:JM\, Kelli McGarrah
URL:https://www.tontitown.com/event/nwa-sox-11u-garrison-tuesdays-thursdays-6-8pm/2024-12-17/
LOCATION:Baseball Field\, 235 E. Henri De Tonti Blvd\, Tontitown\, AR\, 72762\, United States
CATEGORIES:Baseball
END:VEVENT
BEGIN:VEVENT
DTSTART;TZID=America/Chicago:20241219T180000
DTEND;TZID=America/Chicago:20241219T200000
DTSTAMP:20260423T151130
CREATED:20241031T173753Z
LAST-MODIFIED:20241031T173753Z
UID:25679-1734631200-1734638400@www.tontitown.com
SUMMARY:NWA SOX 11u- Garrison- Tuesdays/Thursdays 6-8pm
DESCRIPTION:JM\, Kelli McGarrah
URL:https://www.tontitown.com/event/nwa-sox-11u-garrison-tuesdays-thursdays-6-8pm/2024-12-19/
LOCATION:Baseball Field\, 235 E. Henri De Tonti Blvd\, Tontitown\, AR\, 72762\, United States
CATEGORIES:Baseball
END:VEVENT
BEGIN:VEVENT
DTSTART;TZID=America/Chicago:20241224T180000
DTEND;TZID=America/Chicago:20241224T190000
DTSTAMP:20260423T151130
CREATED:20210727T164132Z
LAST-MODIFIED:20240320T191521Z
UID:19272-1735063200-1735066800@www.tontitown.com
SUMMARY:Planning Commission Meeting
DESCRIPTION:
URL:https://www.tontitown.com/event/planning-commission-meeting/2024-12-24/
LOCATION:City Hall\, 235 E Henri de Tonti Blvd\, Tontitown\, AR\, 72762\, United States
CATEGORIES:City,Planning
END:VEVENT
BEGIN:VEVENT
DTSTART;TZID=America/Chicago:20241224T180000
DTEND;TZID=America/Chicago:20241224T200000
DTSTAMP:20260423T151130
CREATED:20241031T173753Z
LAST-MODIFIED:20241031T173753Z
UID:25680-1735063200-1735070400@www.tontitown.com
SUMMARY:NWA SOX 11u- Garrison- Tuesdays/Thursdays 6-8pm
DESCRIPTION:JM\, Kelli McGarrah
URL:https://www.tontitown.com/event/nwa-sox-11u-garrison-tuesdays-thursdays-6-8pm/2024-12-24/
LOCATION:Baseball Field\, 235 E. Henri De Tonti Blvd\, Tontitown\, AR\, 72762\, United States
CATEGORIES:Baseball
END:VEVENT
BEGIN:VEVENT
DTSTART;TZID=America/Chicago:20241226T180000
DTEND;TZID=America/Chicago:20241226T200000
DTSTAMP:20260423T151130
CREATED:20241031T173753Z
LAST-MODIFIED:20241031T173753Z
UID:25681-1735236000-1735243200@www.tontitown.com
SUMMARY:NWA SOX 11u- Garrison- Tuesdays/Thursdays 6-8pm
DESCRIPTION:JM\, Kelli McGarrah
URL:https://www.tontitown.com/event/nwa-sox-11u-garrison-tuesdays-thursdays-6-8pm/2024-12-26/
LOCATION:Baseball Field\, 235 E. Henri De Tonti Blvd\, Tontitown\, AR\, 72762\, United States
CATEGORIES:Baseball
END:VEVENT
BEGIN:VEVENT
DTSTART;TZID=America/Chicago:20241231T180000
DTEND;TZID=America/Chicago:20241231T200000
DTSTAMP:20260423T151130
CREATED:20241031T173753Z
LAST-MODIFIED:20241031T173753Z
UID:25682-1735668000-1735675200@www.tontitown.com
SUMMARY:NWA SOX 11u- Garrison- Tuesdays/Thursdays 6-8pm
DESCRIPTION:JM\, Kelli McGarrah
URL:https://www.tontitown.com/event/nwa-sox-11u-garrison-tuesdays-thursdays-6-8pm/2024-12-31/
LOCATION:Baseball Field\, 235 E. Henri De Tonti Blvd\, Tontitown\, AR\, 72762\, United States
CATEGORIES:Baseball
END:VEVENT
END:VCALENDAR