BEGIN:VCALENDAR
VERSION:2.0
PRODID:-//City of Tontitown, Arkansas - ECPv6.15.13//NONSGML v1.0//EN
CALSCALE:GREGORIAN
METHOD:PUBLISH
X-WR-CALNAME:City of Tontitown, Arkansas
X-ORIGINAL-URL:https://www.tontitown.com
X-WR-CALDESC:Events for City of Tontitown, Arkansas
REFRESH-INTERVAL;VALUE=DURATION:PT1H
X-Robots-Tag:noindex
X-PUBLISHED-TTL:PT1H
BEGIN:VTIMEZONE
TZID:America/Chicago
BEGIN:DAYLIGHT
TZOFFSETFROM:-0600
TZOFFSETTO:-0500
TZNAME:CDT
DTSTART:20190310T080000
END:DAYLIGHT
BEGIN:STANDARD
TZOFFSETFROM:-0500
TZOFFSETTO:-0600
TZNAME:CST
DTSTART:20191103T070000
END:STANDARD
BEGIN:DAYLIGHT
TZOFFSETFROM:-0600
TZOFFSETTO:-0500
TZNAME:CDT
DTSTART:20200308T080000
END:DAYLIGHT
BEGIN:STANDARD
TZOFFSETFROM:-0500
TZOFFSETTO:-0600
TZNAME:CST
DTSTART:20201101T070000
END:STANDARD
BEGIN:DAYLIGHT
TZOFFSETFROM:-0600
TZOFFSETTO:-0500
TZNAME:CDT
DTSTART:20210314T080000
END:DAYLIGHT
BEGIN:STANDARD
TZOFFSETFROM:-0500
TZOFFSETTO:-0600
TZNAME:CST
DTSTART:20211107T070000
END:STANDARD
END:VTIMEZONE
BEGIN:VEVENT
DTSTART;TZID=America/Chicago:20201004T150000
DTEND;TZID=America/Chicago:20201004T170000
DTSTAMP:20260421T184858
CREATED:20200804T185807Z
LAST-MODIFIED:20200804T185807Z
UID:9645-1601823600-1601830800@www.tontitown.com
SUMMARY:Kings Baseball Practice
DESCRIPTION:
URL:https://www.tontitown.com/event/kings-baseball-practice-9/
LOCATION:Baseball Field\, 235 E. Henri De Tonti Blvd\, Tontitown\, AR\, 72762\, United States
CATEGORIES:Baseball
END:VEVENT
BEGIN:VEVENT
DTSTART;TZID=America/Chicago:20201004T130000
DTEND;TZID=America/Chicago:20201004T150000
DTSTAMP:20260421T184858
CREATED:20200806T195417Z
LAST-MODIFIED:20200806T195417Z
UID:9806-1601816400-1601823600@www.tontitown.com
SUMMARY:Prospects Mattingly 11U
DESCRIPTION:
URL:https://www.tontitown.com/event/prospects-mattingly-11u-9/
LOCATION:Baseball Field\, 235 E. Henri De Tonti Blvd\, Tontitown\, AR\, 72762\, United States
CATEGORIES:Baseball
END:VEVENT
BEGIN:VEVENT
DTSTART;TZID=America/Chicago:20201004T090000
DTEND;TZID=America/Chicago:20201004T120000
DTSTAMP:20260421T184858
CREATED:20200924T141638Z
LAST-MODIFIED:20200924T141638Z
UID:10301-1601802000-1601812800@www.tontitown.com
SUMMARY:Summit Baptist Church Park Reservation
DESCRIPTION:
URL:https://www.tontitown.com/event/summit-baptist-church-park-reservation-8/
LOCATION:Northwest/Sunny Hinshaw Pavilion\, 235 E. Henri De Tonti Blvd\, Tontitown\, AR\, 72762\, United States
CATEGORIES:Pavillion/Gazebo
END:VEVENT
BEGIN:VEVENT
DTSTART;TZID=America/Chicago:20201003T140000
DTEND;TZID=America/Chicago:20201003T160000
DTSTAMP:20260421T184858
CREATED:20200914T135545Z
LAST-MODIFIED:20200914T135545Z
UID:10225-1601733600-1601740800@www.tontitown.com
SUMMARY:Gilliland Park Reservation
DESCRIPTION:
URL:https://www.tontitown.com/event/gilliland-park-reservation/
LOCATION:Henry Piazza Pavilion\, Tontitown\, AR\, 72762\, United States
CATEGORIES:Pavillion/Gazebo
END:VEVENT
BEGIN:VEVENT
DTSTART;TZID=America/Chicago:20201003T130000
DTEND;TZID=America/Chicago:20201003T160000
DTSTAMP:20260421T184858
CREATED:20200924T151848Z
LAST-MODIFIED:20200924T151848Z
UID:10303-1601730000-1601740800@www.tontitown.com
SUMMARY:D. Smith Birthday Party
DESCRIPTION:
URL:https://www.tontitown.com/event/d-smith-birthday-party/
LOCATION:Northwest/Sunny Hinshaw Pavilion\, 235 E. Henri De Tonti Blvd\, Tontitown\, AR\, 72762\, United States
CATEGORIES:Pavillion/Gazebo
END:VEVENT
BEGIN:VEVENT
DTSTART;TZID=America/Chicago:20201003T120000
DTEND;TZID=America/Chicago:20201003T140000
DTSTAMP:20260421T184858
CREATED:20200806T195311Z
LAST-MODIFIED:20200806T195311Z
UID:9804-1601726400-1601733600@www.tontitown.com
SUMMARY:Prospects 10U Wilkins
DESCRIPTION:
URL:https://www.tontitown.com/event/prospects-10u-wilkins-9/
LOCATION:Baseball Field\, 235 E. Henri De Tonti Blvd\, Tontitown\, AR\, 72762\, United States
CATEGORIES:Baseball
END:VEVENT
BEGIN:VEVENT
DTSTART;TZID=America/Chicago:20201003T100000
DTEND;TZID=America/Chicago:20201003T120000
DTSTAMP:20260421T184858
CREATED:20200806T195238Z
LAST-MODIFIED:20200806T195238Z
UID:9802-1601719200-1601726400@www.tontitown.com
SUMMARY:Prospects 8U Mann
DESCRIPTION:
URL:https://www.tontitown.com/event/prospects-8u-mann-9/
LOCATION:Baseball Field\, 235 E. Henri De Tonti Blvd\, Tontitown\, AR\, 72762\, United States
CATEGORIES:Baseball
END:VEVENT
BEGIN:VEVENT
DTSTART;TZID=America/Chicago:20201002T170000
DTEND;TZID=America/Chicago:20201002T220000
DTSTAMP:20260421T184858
CREATED:20200911T175458Z
LAST-MODIFIED:20200911T175458Z
UID:10215-1601658000-1601676000@www.tontitown.com
SUMMARY:Landry Wedding Rehearsal
DESCRIPTION:
URL:https://www.tontitown.com/event/landry-wedding-rehearsal/
LOCATION:West/Piazza Pavilion\, Tontitown\, AR\, 72762\, United States
CATEGORIES:Pavillion/Gazebo
END:VEVENT
BEGIN:VEVENT
DTSTART;TZID=America/Chicago:20201002T170000
DTEND;TZID=America/Chicago:20201002T190000
DTSTAMP:20260421T184858
CREATED:20200828T175843Z
LAST-MODIFIED:20200828T175843Z
UID:10118-1601658000-1601665200@www.tontitown.com
SUMMARY:Prospects Mann 8U
DESCRIPTION:
URL:https://www.tontitown.com/event/prospects-mann-8u-6/
LOCATION:Baseball Field\, 235 E. Henri De Tonti Blvd\, Tontitown\, AR\, 72762\, United States
CATEGORIES:Baseball
END:VEVENT
BEGIN:VEVENT
DTSTART;TZID=America/Chicago:20201001T173000
DTEND;TZID=America/Chicago:20201001T190000
DTSTAMP:20260421T184858
CREATED:20200722T164023Z
LAST-MODIFIED:20200722T164023Z
UID:9534-1601573400-1601578800@www.tontitown.com
SUMMARY:Flake 12U Springdale Baseball Practice
DESCRIPTION:
URL:https://www.tontitown.com/event/flake-12u-springdale-baseball-practice-18/
LOCATION:Baseball Field\, 235 E. Henri De Tonti Blvd\, Tontitown\, AR\, 72762\, United States
CATEGORIES:Baseball
END:VEVENT
BEGIN:VEVENT
DTSTART;TZID=America/Chicago:20200930T190000
DTEND;TZID=America/Chicago:20200930T203000
DTSTAMP:20260421T184858
CREATED:20200806T194440Z
LAST-MODIFIED:20200806T194440Z
UID:9784-1601492400-1601497800@www.tontitown.com
SUMMARY:Prospects Moore 9U
DESCRIPTION:
URL:https://www.tontitown.com/event/prospects-moore-9u-7/
LOCATION:Baseball Field\, 235 E. Henri De Tonti Blvd\, Tontitown\, AR\, 72762\, United States
CATEGORIES:Baseball
END:VEVENT
BEGIN:VEVENT
DTSTART;TZID=America/Chicago:20200930T173000
DTEND;TZID=America/Chicago:20200930T190000
DTSTAMP:20260421T184858
CREATED:20200714T174938Z
LAST-MODIFIED:20200714T174938Z
UID:9432-1601487000-1601492400@www.tontitown.com
SUMMARY:Wright 7U Baseball Practice
DESCRIPTION:
URL:https://www.tontitown.com/event/wright-7u-baseball-practice-18/
LOCATION:Baseball Field\, 235 E. Henri De Tonti Blvd\, Tontitown\, AR\, 72762\, United States
CATEGORIES:Baseball
END:VEVENT
BEGIN:VEVENT
DTSTART;TZID=America/Chicago:20200929T190000
DTEND;TZID=America/Chicago:20200929T203000
DTSTAMP:20260421T184858
CREATED:20200806T194344Z
LAST-MODIFIED:20200806T194344Z
UID:9782-1601406000-1601411400@www.tontitown.com
SUMMARY:Prospects Beirman 9U
DESCRIPTION:
URL:https://www.tontitown.com/event/prospects-beirman-9u-5/
LOCATION:Baseball Field\, 235 E. Henri De Tonti Blvd\, Tontitown\, AR\, 72762\, United States
CATEGORIES:Baseball
END:VEVENT
BEGIN:VEVENT
DTSTART;TZID=America/Chicago:20200929T180000
DTEND;TZID=America/Chicago:20200929T200000
DTSTAMP:20260421T184858
CREATED:20200914T132022Z
LAST-MODIFIED:20200914T132022Z
UID:10222-1601402400-1601409600@www.tontitown.com
SUMMARY:Special Planning Board Meeting
DESCRIPTION:
URL:https://www.tontitown.com/event/special-planning-board-meeting/
CATEGORIES:City
END:VEVENT
BEGIN:VEVENT
DTSTART;TZID=America/Chicago:20200929T173000
DTEND;TZID=America/Chicago:20200929T190000
DTSTAMP:20260421T184858
CREATED:20200722T163940Z
LAST-MODIFIED:20200722T163940Z
UID:9532-1601400600-1601406000@www.tontitown.com
SUMMARY:Flake 12U Springdale Baseball Practice
DESCRIPTION:
URL:https://www.tontitown.com/event/flake-12u-springdale-baseball-practice-17/
LOCATION:Baseball Field\, 235 E. Henri De Tonti Blvd\, Tontitown\, AR\, 72762\, United States
CATEGORIES:Baseball
END:VEVENT
BEGIN:VEVENT
DTSTART;TZID=America/Chicago:20200928T190000
DTEND;TZID=America/Chicago:20200928T203000
DTSTAMP:20260421T184858
CREATED:20200806T194944Z
LAST-MODIFIED:20200806T194944Z
UID:9800-1601319600-1601325000@www.tontitown.com
SUMMARY:Prospects Carpenter 9U
DESCRIPTION:
URL:https://www.tontitown.com/event/prospects-carpenter-9u-8/
LOCATION:Baseball Field\, 235 E. Henri De Tonti Blvd\, Tontitown\, AR\, 72762\, United States
CATEGORIES:Baseball
END:VEVENT
BEGIN:VEVENT
DTSTART;TZID=America/Chicago:20200928T173000
DTEND;TZID=America/Chicago:20200928T190000
DTSTAMP:20260421T184858
CREATED:20200714T173958Z
LAST-MODIFIED:20200714T173958Z
UID:9411-1601314200-1601319600@www.tontitown.com
SUMMARY:Wright 7U Baseball Practice
DESCRIPTION:
URL:https://www.tontitown.com/event/wright-7u-baseball-practice-9/
LOCATION:Baseball Field\, 235 E. Henri De Tonti Blvd\, Tontitown\, AR\, 72762\, United States
CATEGORIES:Baseball
END:VEVENT
BEGIN:VEVENT
DTSTART;TZID=America/Chicago:20200927T170000
DTEND;TZID=America/Chicago:20200927T190000
DTSTAMP:20260421T184858
CREATED:20200806T194907Z
LAST-MODIFIED:20200806T194907Z
UID:9798-1601226000-1601233200@www.tontitown.com
SUMMARY:Prospects Curry 11U
DESCRIPTION:
URL:https://www.tontitown.com/event/prospects-curry-11u-8/
LOCATION:Baseball Field\, 235 E. Henri De Tonti Blvd\, Tontitown\, AR\, 72762\, United States
CATEGORIES:Baseball
END:VEVENT
BEGIN:VEVENT
DTSTART;TZID=America/Chicago:20200927T150000
DTEND;TZID=America/Chicago:20200927T170000
DTSTAMP:20260421T184858
CREATED:20200804T185710Z
LAST-MODIFIED:20200804T185710Z
UID:9643-1601218800-1601226000@www.tontitown.com
SUMMARY:Kings Baseball Practice
DESCRIPTION:
URL:https://www.tontitown.com/event/kings-baseball-practice-8/
LOCATION:Baseball Field\, 235 E. Henri De Tonti Blvd\, Tontitown\, AR\, 72762\, United States
CATEGORIES:Baseball
END:VEVENT
BEGIN:VEVENT
DTSTART;TZID=America/Chicago:20200927T130000
DTEND;TZID=America/Chicago:20200927T150000
DTSTAMP:20260421T184858
CREATED:20200806T194836Z
LAST-MODIFIED:20200806T194836Z
UID:9796-1601211600-1601218800@www.tontitown.com
SUMMARY:Prospects Mattingly 11U
DESCRIPTION:
URL:https://www.tontitown.com/event/prospects-mattingly-11u-8/
LOCATION:Baseball Field\, 235 E. Henri De Tonti Blvd\, Tontitown\, AR\, 72762\, United States
CATEGORIES:Baseball
END:VEVENT
BEGIN:VEVENT
DTSTART;TZID=America/Chicago:20200927T090000
DTEND;TZID=America/Chicago:20200927T120000
DTSTAMP:20260421T184858
CREATED:20200924T141442Z
LAST-MODIFIED:20200924T141442Z
UID:10299-1601197200-1601208000@www.tontitown.com
SUMMARY:Summit Baptist Church Park Reservation
DESCRIPTION:
URL:https://www.tontitown.com/event/summit-baptist-church-park-reservation-7/
LOCATION:Northwest/Sunny Hinshaw Pavilion\, 235 E. Henri De Tonti Blvd\, Tontitown\, AR\, 72762\, United States
CATEGORIES:Pavillion/Gazebo
END:VEVENT
BEGIN:VEVENT
DTSTART;TZID=America/Chicago:20200926T163000
DTEND;TZID=America/Chicago:20200926T183000
DTSTAMP:20260421T184858
CREATED:20200911T194208Z
LAST-MODIFIED:20200911T195752Z
UID:10217-1601137800-1601145000@www.tontitown.com
SUMMARY:Ibarra Park Reservation
DESCRIPTION:
URL:https://www.tontitown.com/event/ibarra-park-reservation/
LOCATION:Sunny Hinshaw/NW Pavilion\, Sunny Hinshaw/NW Pavilion
CATEGORIES:Pavillion/Gazebo
END:VEVENT
BEGIN:VEVENT
DTSTART;TZID=America/Chicago:20200926T120000
DTEND;TZID=America/Chicago:20200926T140000
DTSTAMP:20260421T184858
CREATED:20200806T194743Z
LAST-MODIFIED:20200806T194743Z
UID:9794-1601121600-1601128800@www.tontitown.com
SUMMARY:Prospects 10U Wilkins
DESCRIPTION:
URL:https://www.tontitown.com/event/prospects-10u-wilkins-8/
LOCATION:Baseball Field\, 235 E. Henri De Tonti Blvd\, Tontitown\, AR\, 72762\, United States
CATEGORIES:Baseball
END:VEVENT
BEGIN:VEVENT
DTSTART;TZID=America/Chicago:20200926T100000
DTEND;TZID=America/Chicago:20200926T120000
DTSTAMP:20260421T184858
CREATED:20200806T194707Z
LAST-MODIFIED:20200806T194707Z
UID:9792-1601114400-1601121600@www.tontitown.com
SUMMARY:Prospects 8U Mann
DESCRIPTION:
URL:https://www.tontitown.com/event/prospects-8u-mann-8/
LOCATION:Baseball Field\, 235 E. Henri De Tonti Blvd\, Tontitown\, AR\, 72762\, United States
CATEGORIES:Baseball
END:VEVENT
BEGIN:VEVENT
DTSTART;TZID=America/Chicago:20200925T170000
DTEND;TZID=America/Chicago:20200925T190000
DTSTAMP:20260421T184858
CREATED:20200828T175803Z
LAST-MODIFIED:20200828T175803Z
UID:10116-1601053200-1601060400@www.tontitown.com
SUMMARY:Prospects Mann 8U
DESCRIPTION:
URL:https://www.tontitown.com/event/prospects-mann-8u-5/
LOCATION:Baseball Field\, 235 E. Henri De Tonti Blvd\, Tontitown\, AR\, 72762\, United States
CATEGORIES:Baseball
END:VEVENT
BEGIN:VEVENT
DTSTART;TZID=America/Chicago:20200924T190000
DTEND;TZID=America/Chicago:20200924T203000
DTSTAMP:20260421T184858
CREATED:20200806T194633Z
LAST-MODIFIED:20200806T194633Z
UID:9790-1600974000-1600979400@www.tontitown.com
SUMMARY:Prospects Woods 11U
DESCRIPTION:
URL:https://www.tontitown.com/event/prospects-woods-11u-7/
LOCATION:Baseball Field\, 235 E. Henri De Tonti Blvd\, Tontitown\, AR\, 72762\, United States
CATEGORIES:Baseball
END:VEVENT
BEGIN:VEVENT
DTSTART;TZID=America/Chicago:20200924T173000
DTEND;TZID=America/Chicago:20200924T190000
DTSTAMP:20260421T184858
CREATED:20200722T163902Z
LAST-MODIFIED:20200722T163902Z
UID:9530-1600968600-1600974000@www.tontitown.com
SUMMARY:Flake 12U Springdale Baseball Practice
DESCRIPTION:
URL:https://www.tontitown.com/event/flake-12u-springdale-baseball-practice-16/
LOCATION:Baseball Field\, 235 E. Henri De Tonti Blvd\, Tontitown\, AR\, 72762\, United States
CATEGORIES:Baseball
END:VEVENT
BEGIN:VEVENT
DTSTART;TZID=America/Chicago:20200923T190000
DTEND;TZID=America/Chicago:20200923T203000
DTSTAMP:20260421T184858
CREATED:20200806T194557Z
LAST-MODIFIED:20200806T194557Z
UID:9788-1600887600-1600893000@www.tontitown.com
SUMMARY:Prospects Moore 9U
DESCRIPTION:
URL:https://www.tontitown.com/event/prospects-moore-9u-8/
LOCATION:Baseball Field\, 235 E. Henri De Tonti Blvd\, Tontitown\, AR\, 72762\, United States
CATEGORIES:Baseball
END:VEVENT
BEGIN:VEVENT
DTSTART;TZID=America/Chicago:20200923T173000
DTEND;TZID=America/Chicago:20200923T190000
DTSTAMP:20260421T184858
CREATED:20200714T174903Z
LAST-MODIFIED:20200714T174903Z
UID:9430-1600882200-1600887600@www.tontitown.com
SUMMARY:Wright 7U Baseball Practice
DESCRIPTION:
URL:https://www.tontitown.com/event/wright-7u-baseball-practice-17/
LOCATION:Baseball Field\, 235 E. Henri De Tonti Blvd\, Tontitown\, AR\, 72762\, United States
CATEGORIES:Baseball
END:VEVENT
BEGIN:VEVENT
DTSTART;TZID=America/Chicago:20200922T190000
DTEND;TZID=America/Chicago:20200922T203000
DTSTAMP:20260421T184858
CREATED:20200806T194527Z
LAST-MODIFIED:20200806T194527Z
UID:9786-1600801200-1600806600@www.tontitown.com
SUMMARY:Prospects Beirman 9U
DESCRIPTION:
URL:https://www.tontitown.com/event/prospects-beirman-9u-6/
LOCATION:Baseball Field\, 235 E. Henri De Tonti Blvd\, Tontitown\, AR\, 72762\, United States
CATEGORIES:Baseball
END:VEVENT
END:VCALENDAR