BEGIN:VCALENDAR
VERSION:2.0
PRODID:-//City of Tontitown, Arkansas - ECPv6.15.13//NONSGML v1.0//EN
CALSCALE:GREGORIAN
METHOD:PUBLISH
X-WR-CALNAME:City of Tontitown, Arkansas
X-ORIGINAL-URL:https://www.tontitown.com
X-WR-CALDESC:Events for City of Tontitown, Arkansas
REFRESH-INTERVAL;VALUE=DURATION:PT1H
X-Robots-Tag:noindex
X-PUBLISHED-TTL:PT1H
BEGIN:VTIMEZONE
TZID:America/Chicago
BEGIN:DAYLIGHT
TZOFFSETFROM:-0600
TZOFFSETTO:-0500
TZNAME:CDT
DTSTART:20190310T080000
END:DAYLIGHT
BEGIN:STANDARD
TZOFFSETFROM:-0500
TZOFFSETTO:-0600
TZNAME:CST
DTSTART:20191103T070000
END:STANDARD
BEGIN:DAYLIGHT
TZOFFSETFROM:-0600
TZOFFSETTO:-0500
TZNAME:CDT
DTSTART:20200308T080000
END:DAYLIGHT
BEGIN:STANDARD
TZOFFSETFROM:-0500
TZOFFSETTO:-0600
TZNAME:CST
DTSTART:20201101T070000
END:STANDARD
BEGIN:DAYLIGHT
TZOFFSETFROM:-0600
TZOFFSETTO:-0500
TZNAME:CDT
DTSTART:20210314T080000
END:DAYLIGHT
BEGIN:STANDARD
TZOFFSETFROM:-0500
TZOFFSETTO:-0600
TZNAME:CST
DTSTART:20211107T070000
END:STANDARD
END:VTIMEZONE
BEGIN:VEVENT
DTSTART;TZID=America/Chicago:20201017T100000
DTEND;TZID=America/Chicago:20201017T120000
DTSTAMP:20260420T143614
CREATED:20200820T134500Z
LAST-MODIFIED:20200820T134500Z
UID:9960-1602928800-1602936000@www.tontitown.com
SUMMARY:Prospects 8U Mann
DESCRIPTION:
URL:https://www.tontitown.com/event/prospects-8u-mann-11/
LOCATION:Baseball Field\, 235 E. Henri De Tonti Blvd\, Tontitown\, AR\, 72762\, United States
CATEGORIES:Baseball
END:VEVENT
BEGIN:VEVENT
DTSTART;TZID=America/Chicago:20201016T170000
DTEND;TZID=America/Chicago:20201016T190000
DTSTAMP:20260420T143614
CREATED:20200828T175947Z
LAST-MODIFIED:20200828T175947Z
UID:10122-1602867600-1602874800@www.tontitown.com
SUMMARY:Prospects Mann 8U
DESCRIPTION:
URL:https://www.tontitown.com/event/prospects-mann-8u-8/
LOCATION:Baseball Field\, 235 E. Henri De Tonti Blvd\, Tontitown\, AR\, 72762\, United States
CATEGORIES:Baseball
END:VEVENT
BEGIN:VEVENT
DTSTART;TZID=America/Chicago:20201015T183000
DTEND;TZID=America/Chicago:20201015T200000
DTSTAMP:20260420T143614
CREATED:20200820T134427Z
LAST-MODIFIED:20200820T134427Z
UID:9958-1602786600-1602792000@www.tontitown.com
SUMMARY:Prospects Oleary 10U
DESCRIPTION:
URL:https://www.tontitown.com/event/prospects-oleary-10u-4/
LOCATION:Baseball Field\, 235 E. Henri De Tonti Blvd\, Tontitown\, AR\, 72762\, United States
CATEGORIES:Baseball
END:VEVENT
BEGIN:VEVENT
DTSTART;TZID=America/Chicago:20201015T170000
DTEND;TZID=America/Chicago:20201015T183000
DTSTAMP:20260420T143614
CREATED:20200820T134351Z
LAST-MODIFIED:20200820T134351Z
UID:9956-1602781200-1602786600@www.tontitown.com
SUMMARY:Prospects Moab 8U
DESCRIPTION:
URL:https://www.tontitown.com/event/prospects-moab-8u-4/
LOCATION:Baseball Field\, 235 E. Henri De Tonti Blvd\, Tontitown\, AR\, 72762\, United States
CATEGORIES:Baseball
END:VEVENT
BEGIN:VEVENT
DTSTART;TZID=America/Chicago:20201015T160000
DTEND;TZID=America/Chicago:20201015T173000
DTSTAMP:20260420T143614
CREATED:20200820T134321Z
LAST-MODIFIED:20200820T134321Z
UID:9954-1602777600-1602783000@www.tontitown.com
SUMMARY:Prospects Wofford 10U
DESCRIPTION:
URL:https://www.tontitown.com/event/prospects-wofford-10u-4/
LOCATION:Baseball Field\, 235 E. Henri De Tonti Blvd\, Tontitown\, AR\, 72762\, United States
CATEGORIES:Baseball
END:VEVENT
BEGIN:VEVENT
DTSTART;TZID=America/Chicago:20201014T183000
DTEND;TZID=America/Chicago:20201014T200000
DTSTAMP:20260420T143614
CREATED:20200820T134250Z
LAST-MODIFIED:20200820T134250Z
UID:9952-1602700200-1602705600@www.tontitown.com
SUMMARY:Prospects Rogers 10U
DESCRIPTION:
URL:https://www.tontitown.com/event/prospects-rogers-10u-4/
LOCATION:Baseball Field\, 235 E. Henri De Tonti Blvd\, Tontitown\, AR\, 72762\, United States
CATEGORIES:Baseball
END:VEVENT
BEGIN:VEVENT
DTSTART;TZID=America/Chicago:20201014T170000
DTEND;TZID=America/Chicago:20201014T183000
DTSTAMP:20260420T143614
CREATED:20200820T134219Z
LAST-MODIFIED:20200820T134219Z
UID:9950-1602694800-1602700200@www.tontitown.com
SUMMARY:Prospects Barber 8U
DESCRIPTION:
URL:https://www.tontitown.com/event/prospects-barber-8u-4/
LOCATION:Baseball Field\, 235 E. Henri De Tonti Blvd\, Tontitown\, AR\, 72762\, United States
CATEGORIES:Baseball
END:VEVENT
BEGIN:VEVENT
DTSTART;TZID=America/Chicago:20201014T160000
DTEND;TZID=America/Chicago:20201014T173000
DTSTAMP:20260420T143614
CREATED:20200820T134129Z
LAST-MODIFIED:20200820T134143Z
UID:9948-1602691200-1602696600@www.tontitown.com
SUMMARY:Prospects Holiman 10U
DESCRIPTION:
URL:https://www.tontitown.com/event/prospects-holiman-10u-4/
LOCATION:Baseball Field\, 235 E. Henri De Tonti Blvd\, Tontitown\, AR\, 72762\, United States
CATEGORIES:Baseball
END:VEVENT
BEGIN:VEVENT
DTSTART;TZID=America/Chicago:20201013T183000
DTEND;TZID=America/Chicago:20201013T200000
DTSTAMP:20260420T143614
CREATED:20200820T134052Z
LAST-MODIFIED:20200820T134052Z
UID:9946-1602613800-1602619200@www.tontitown.com
SUMMARY:Prospects Oleary 10U
DESCRIPTION:
URL:https://www.tontitown.com/event/prospects-oleary-10u-3/
LOCATION:Baseball Field\, 235 E. Henri De Tonti Blvd\, Tontitown\, AR\, 72762\, United States
CATEGORIES:Baseball
END:VEVENT
BEGIN:VEVENT
DTSTART;TZID=America/Chicago:20201013T170000
DTEND;TZID=America/Chicago:20201013T183000
DTSTAMP:20260420T143614
CREATED:20200820T134016Z
LAST-MODIFIED:20200820T134016Z
UID:9944-1602608400-1602613800@www.tontitown.com
SUMMARY:Prospects Moab 8U
DESCRIPTION:
URL:https://www.tontitown.com/event/prospects-moab-8u-3/
LOCATION:Baseball Field\, 235 E. Henri De Tonti Blvd\, Tontitown\, AR\, 72762\, United States
CATEGORIES:Baseball
END:VEVENT
BEGIN:VEVENT
DTSTART;TZID=America/Chicago:20201013T160000
DTEND;TZID=America/Chicago:20201013T173000
DTSTAMP:20260420T143614
CREATED:20200820T133921Z
LAST-MODIFIED:20200820T133921Z
UID:9942-1602604800-1602610200@www.tontitown.com
SUMMARY:Prospects Wofford 10U
DESCRIPTION:
URL:https://www.tontitown.com/event/prospects-wofford-10u-3/
LOCATION:Baseball Field\, 235 E. Henri De Tonti Blvd\, Tontitown\, AR\, 72762\, United States
CATEGORIES:Baseball
END:VEVENT
BEGIN:VEVENT
DTSTART;TZID=America/Chicago:20201012T183000
DTEND;TZID=America/Chicago:20201012T200000
DTSTAMP:20260420T143614
CREATED:20200820T133836Z
LAST-MODIFIED:20200820T133836Z
UID:9940-1602527400-1602532800@www.tontitown.com
SUMMARY:Prospects Rogers 10U
DESCRIPTION:
URL:https://www.tontitown.com/event/prospects-rogers-10u-3/
LOCATION:Baseball Field\, 235 E. Henri De Tonti Blvd\, Tontitown\, AR\, 72762\, United States
CATEGORIES:Baseball
END:VEVENT
BEGIN:VEVENT
DTSTART;TZID=America/Chicago:20201012T170000
DTEND;TZID=America/Chicago:20201012T183000
DTSTAMP:20260420T143614
CREATED:20200820T133805Z
LAST-MODIFIED:20200820T133805Z
UID:9938-1602522000-1602527400@www.tontitown.com
SUMMARY:Prospects Barber 8U
DESCRIPTION:
URL:https://www.tontitown.com/event/prospects-barber-8u-3/
LOCATION:Baseball Field\, 235 E. Henri De Tonti Blvd\, Tontitown\, AR\, 72762\, United States
CATEGORIES:Baseball
END:VEVENT
BEGIN:VEVENT
DTSTART;TZID=America/Chicago:20201012T160000
DTEND;TZID=America/Chicago:20201012T173000
DTSTAMP:20260420T143614
CREATED:20200820T133726Z
LAST-MODIFIED:20200820T133726Z
UID:9936-1602518400-1602523800@www.tontitown.com
SUMMARY:Prospects Holiman 10U
DESCRIPTION:
URL:https://www.tontitown.com/event/prospects-holiman-10u-3/
LOCATION:Baseball Field\, 235 E. Henri De Tonti Blvd\, Tontitown\, AR\, 72762\, United States
CATEGORIES:Baseball
END:VEVENT
BEGIN:VEVENT
DTSTART;TZID=America/Chicago:20201011T170000
DTEND;TZID=America/Chicago:20201011T190000
DTSTAMP:20260420T143614
CREATED:20200820T133625Z
LAST-MODIFIED:20200820T133625Z
UID:9934-1602435600-1602442800@www.tontitown.com
SUMMARY:Prospects Fox 10U
DESCRIPTION:
URL:https://www.tontitown.com/event/prospects-fox-10u-2/
LOCATION:Baseball Field\, 235 E. Henri De Tonti Blvd\, Tontitown\, AR\, 72762\, United States
CATEGORIES:Baseball
END:VEVENT
BEGIN:VEVENT
DTSTART;TZID=America/Chicago:20201011T150000
DTEND;TZID=America/Chicago:20201011T170000
DTSTAMP:20260420T143614
CREATED:20200820T133529Z
LAST-MODIFIED:20200820T133529Z
UID:9932-1602428400-1602435600@www.tontitown.com
SUMMARY:Prospects Curry 11U
DESCRIPTION:
URL:https://www.tontitown.com/event/prospects-curry-11u-9/
LOCATION:Baseball Field\, 235 E. Henri De Tonti Blvd\, Tontitown\, AR\, 72762\, United States
CATEGORIES:Baseball
END:VEVENT
BEGIN:VEVENT
DTSTART;TZID=America/Chicago:20201011T130000
DTEND;TZID=America/Chicago:20201011T150000
DTSTAMP:20260420T143614
CREATED:20200820T133449Z
LAST-MODIFIED:20200820T133449Z
UID:9930-1602421200-1602428400@www.tontitown.com
SUMMARY:Prospects Mattingly 11U
DESCRIPTION:
URL:https://www.tontitown.com/event/prospects-mattingly-11u-10/
LOCATION:Baseball Field\, 235 E. Henri De Tonti Blvd\, Tontitown\, AR\, 72762\, United States
CATEGORIES:Baseball
END:VEVENT
BEGIN:VEVENT
DTSTART;TZID=America/Chicago:20201011T090000
DTEND;TZID=America/Chicago:20201011T120000
DTSTAMP:20260420T143614
CREATED:20201008T141404Z
LAST-MODIFIED:20201008T141404Z
UID:10384-1602406800-1602417600@www.tontitown.com
SUMMARY:Summit Baptist Church Park Reservation
DESCRIPTION:
URL:https://www.tontitown.com/event/summit-baptist-church-park-reservation-9/
LOCATION:Northwest/Sunny Hinshaw Pavilion\, 235 E. Henri De Tonti Blvd\, Tontitown\, AR\, 72762\, United States
CATEGORIES:Pavillion/Gazebo
END:VEVENT
BEGIN:VEVENT
DTSTART;TZID=America/Chicago:20201010T130000
DTEND;TZID=America/Chicago:20201010T170000
DTSTAMP:20260420T143614
CREATED:20201002T192323Z
LAST-MODIFIED:20201002T192323Z
UID:10347-1602334800-1602349200@www.tontitown.com
SUMMARY:Piazza Park Reservation
DESCRIPTION:
URL:https://www.tontitown.com/event/piazza-park-reservation/
LOCATION:Henry Piazza Pavilion\, Tontitown\, AR\, 72762\, United States
CATEGORIES:Pavillion/Gazebo
END:VEVENT
BEGIN:VEVENT
DTSTART;TZID=America/Chicago:20201010T130000
DTEND;TZID=America/Chicago:20201010T160000
DTSTAMP:20260420T143614
CREATED:20201002T192414Z
LAST-MODIFIED:20201002T192414Z
UID:10349-1602334800-1602345600@www.tontitown.com
SUMMARY:Burns-Allen Park Reservation
DESCRIPTION:
URL:https://www.tontitown.com/event/burns-allen-park-reservation/
LOCATION:Northwest/Sunny Hinshaw Pavilion\, 235 E. Henri De Tonti Blvd\, Tontitown\, AR\, 72762\, United States
CATEGORIES:Pavillion/Gazebo
END:VEVENT
BEGIN:VEVENT
DTSTART;TZID=America/Chicago:20201010T120000
DTEND;TZID=America/Chicago:20201010T140000
DTSTAMP:20260420T143614
CREATED:20200820T133350Z
LAST-MODIFIED:20200820T133350Z
UID:9928-1602331200-1602338400@www.tontitown.com
SUMMARY:Prospects 10U Wilkins
DESCRIPTION:
URL:https://www.tontitown.com/event/prospects-10u-wilkins-10/
LOCATION:Baseball Field\, 235 E. Henri De Tonti Blvd\, Tontitown\, AR\, 72762\, United States
CATEGORIES:Baseball
END:VEVENT
BEGIN:VEVENT
DTSTART;TZID=America/Chicago:20201010T100000
DTEND;TZID=America/Chicago:20201010T120000
DTSTAMP:20260420T143614
CREATED:20200820T133300Z
LAST-MODIFIED:20200820T133300Z
UID:9926-1602324000-1602331200@www.tontitown.com
SUMMARY:Prospects 8U Mann
DESCRIPTION:
URL:https://www.tontitown.com/event/prospects-8u-mann-10/
LOCATION:Baseball Field\, 235 E. Henri De Tonti Blvd\, Tontitown\, AR\, 72762\, United States
CATEGORIES:Baseball
END:VEVENT
BEGIN:VEVENT
DTSTART;TZID=America/Chicago:20201009T170000
DTEND;TZID=America/Chicago:20201009T190000
DTSTAMP:20260420T143614
CREATED:20200828T175915Z
LAST-MODIFIED:20200828T175915Z
UID:10120-1602262800-1602270000@www.tontitown.com
SUMMARY:Prospects Mann 8U
DESCRIPTION:
URL:https://www.tontitown.com/event/prospects-mann-8u-7/
LOCATION:Baseball Field\, 235 E. Henri De Tonti Blvd\, Tontitown\, AR\, 72762\, United States
CATEGORIES:Baseball
END:VEVENT
BEGIN:VEVENT
DTSTART;TZID=America/Chicago:20201008T183000
DTEND;TZID=America/Chicago:20201008T200000
DTSTAMP:20260420T143614
CREATED:20200820T133221Z
LAST-MODIFIED:20200820T133221Z
UID:9924-1602181800-1602187200@www.tontitown.com
SUMMARY:Prospects Oleary 10U
DESCRIPTION:
URL:https://www.tontitown.com/event/prospects-oleary-10u-2/
LOCATION:Baseball Field\, 235 E. Henri De Tonti Blvd\, Tontitown\, AR\, 72762\, United States
CATEGORIES:Baseball
END:VEVENT
BEGIN:VEVENT
DTSTART;TZID=America/Chicago:20201008T170000
DTEND;TZID=America/Chicago:20201008T183000
DTSTAMP:20260420T143614
CREATED:20200820T133135Z
LAST-MODIFIED:20200820T133135Z
UID:9922-1602176400-1602181800@www.tontitown.com
SUMMARY:Prospects Moab 8U
DESCRIPTION:
URL:https://www.tontitown.com/event/prospects-moab-8u-2/
LOCATION:Baseball Field\, 235 E. Henri De Tonti Blvd\, Tontitown\, AR\, 72762\, United States
CATEGORIES:Baseball
END:VEVENT
BEGIN:VEVENT
DTSTART;TZID=America/Chicago:20201008T160000
DTEND;TZID=America/Chicago:20201008T173000
DTSTAMP:20260420T143614
CREATED:20200820T133057Z
LAST-MODIFIED:20200820T133057Z
UID:9920-1602172800-1602178200@www.tontitown.com
SUMMARY:Prospects Wofford 10U
DESCRIPTION:
URL:https://www.tontitown.com/event/prospects-wofford-10u-2/
LOCATION:Baseball Field\, 235 E. Henri De Tonti Blvd\, Tontitown\, AR\, 72762\, United States
CATEGORIES:Baseball
END:VEVENT
BEGIN:VEVENT
DTSTART;TZID=America/Chicago:20201007T183000
DTEND;TZID=America/Chicago:20201007T200000
DTSTAMP:20260420T143614
CREATED:20200820T133005Z
LAST-MODIFIED:20200820T133005Z
UID:9918-1602095400-1602100800@www.tontitown.com
SUMMARY:Prospects Rogers 10U
DESCRIPTION:
URL:https://www.tontitown.com/event/prospects-rogers-10u-2/
LOCATION:Baseball Field\, 235 E. Henri De Tonti Blvd\, Tontitown\, AR\, 72762\, United States
CATEGORIES:Baseball
END:VEVENT
BEGIN:VEVENT
DTSTART;TZID=America/Chicago:20201007T170000
DTEND;TZID=America/Chicago:20201007T183000
DTSTAMP:20260420T143614
CREATED:20200820T132919Z
LAST-MODIFIED:20200820T132919Z
UID:9916-1602090000-1602095400@www.tontitown.com
SUMMARY:Prospects Barber 8U
DESCRIPTION:
URL:https://www.tontitown.com/event/prospects-barber-8u-2/
LOCATION:Baseball Field\, 235 E. Henri De Tonti Blvd\, Tontitown\, AR\, 72762\, United States
CATEGORIES:Baseball
END:VEVENT
BEGIN:VEVENT
DTSTART;TZID=America/Chicago:20201007T160000
DTEND;TZID=America/Chicago:20201007T173000
DTSTAMP:20260420T143614
CREATED:20200820T132844Z
LAST-MODIFIED:20200820T132844Z
UID:9914-1602086400-1602091800@www.tontitown.com
SUMMARY:Prospects Holiman 10U
DESCRIPTION:
URL:https://www.tontitown.com/event/prospects-holiman-10u-2/
LOCATION:Baseball Field\, 235 E. Henri De Tonti Blvd\, Tontitown\, AR\, 72762\, United States
CATEGORIES:Baseball
END:VEVENT
BEGIN:VEVENT
DTSTART;TZID=America/Chicago:20201006T183000
DTEND;TZID=America/Chicago:20201006T200000
DTSTAMP:20260420T143614
CREATED:20200820T132805Z
LAST-MODIFIED:20200820T132805Z
UID:9912-1602009000-1602014400@www.tontitown.com
SUMMARY:Prospects Oleary 10U
DESCRIPTION:
URL:https://www.tontitown.com/event/prospects-oleary-10u/
LOCATION:Baseball Field\, 235 E. Henri De Tonti Blvd\, Tontitown\, AR\, 72762\, United States
CATEGORIES:Baseball
END:VEVENT
END:VCALENDAR