BEGIN:VCALENDAR
VERSION:2.0
PRODID:-//City of Tontitown, Arkansas - ECPv6.15.13//NONSGML v1.0//EN
CALSCALE:GREGORIAN
METHOD:PUBLISH
X-WR-CALNAME:City of Tontitown, Arkansas
X-ORIGINAL-URL:https://www.tontitown.com
X-WR-CALDESC:Events for City of Tontitown, Arkansas
REFRESH-INTERVAL;VALUE=DURATION:PT1H
X-Robots-Tag:noindex
X-PUBLISHED-TTL:PT1H
BEGIN:VTIMEZONE
TZID:America/Chicago
BEGIN:DAYLIGHT
TZOFFSETFROM:-0600
TZOFFSETTO:-0500
TZNAME:CDT
DTSTART:20250309T080000
END:DAYLIGHT
BEGIN:STANDARD
TZOFFSETFROM:-0500
TZOFFSETTO:-0600
TZNAME:CST
DTSTART:20251102T070000
END:STANDARD
BEGIN:DAYLIGHT
TZOFFSETFROM:-0600
TZOFFSETTO:-0500
TZNAME:CDT
DTSTART:20260308T080000
END:DAYLIGHT
BEGIN:STANDARD
TZOFFSETFROM:-0500
TZOFFSETTO:-0600
TZNAME:CST
DTSTART:20261101T070000
END:STANDARD
BEGIN:DAYLIGHT
TZOFFSETFROM:-0600
TZOFFSETTO:-0500
TZNAME:CDT
DTSTART:20270314T080000
END:DAYLIGHT
BEGIN:STANDARD
TZOFFSETFROM:-0500
TZOFFSETTO:-0600
TZNAME:CST
DTSTART:20271107T070000
END:STANDARD
END:VTIMEZONE
BEGIN:VEVENT
DTSTART;TZID=America/Chicago:20260620T110000
DTEND;TZID=America/Chicago:20260620T140000
DTSTAMP:20260421T003251
CREATED:20260220T201221Z
LAST-MODIFIED:20260220T201221Z
UID:29345-1781953200-1781964000@www.tontitown.com
SUMMARY:Annual Fish Fry - Ozark Cattlemans - Hinshaw Pavilion
DESCRIPTION:
URL:https://www.tontitown.com/event/annual-fish-fry-ozark-cattlemans-hinshaw-pavilion/
CATEGORIES:Pavillion/Gazebo
END:VEVENT
BEGIN:VEVENT
DTSTART;TZID=America/Chicago:20260911T160000
DTEND;TZID=America/Chicago:20260911T210000
DTSTAMP:20260421T003251
CREATED:20250716T204148Z
LAST-MODIFIED:20250716T204148Z
UID:27593-1789142400-1789160400@www.tontitown.com
SUMMARY:Great Plains Corvair Roundup Welcome Party - Bocce Ball & Hinshaw Pavilion
DESCRIPTION:
URL:https://www.tontitown.com/event/great-plains-corvair-roundup-welcome-party-bocce-ball-hinshaw-pavilion/
CATEGORIES:Pavillion/Gazebo
END:VEVENT
END:VCALENDAR