BEGIN:VCALENDAR
VERSION:2.0
PRODID:-//City of Tontitown, Arkansas - ECPv6.15.13//NONSGML v1.0//EN
CALSCALE:GREGORIAN
METHOD:PUBLISH
X-ORIGINAL-URL:https://www.tontitown.com
X-WR-CALDESC:Events for City of Tontitown, Arkansas
REFRESH-INTERVAL;VALUE=DURATION:PT1H
X-Robots-Tag:noindex
X-PUBLISHED-TTL:PT1H
BEGIN:VTIMEZONE
TZID:America/Chicago
BEGIN:DAYLIGHT
TZOFFSETFROM:-0600
TZOFFSETTO:-0500
TZNAME:CDT
DTSTART:20250309T080000
END:DAYLIGHT
BEGIN:STANDARD
TZOFFSETFROM:-0500
TZOFFSETTO:-0600
TZNAME:CST
DTSTART:20251102T070000
END:STANDARD
BEGIN:DAYLIGHT
TZOFFSETFROM:-0600
TZOFFSETTO:-0500
TZNAME:CDT
DTSTART:20260308T080000
END:DAYLIGHT
BEGIN:STANDARD
TZOFFSETFROM:-0500
TZOFFSETTO:-0600
TZNAME:CST
DTSTART:20261101T070000
END:STANDARD
BEGIN:DAYLIGHT
TZOFFSETFROM:-0600
TZOFFSETTO:-0500
TZNAME:CDT
DTSTART:20270314T080000
END:DAYLIGHT
BEGIN:STANDARD
TZOFFSETFROM:-0500
TZOFFSETTO:-0600
TZNAME:CST
DTSTART:20271107T070000
END:STANDARD
END:VTIMEZONE
BEGIN:VEVENT
DTSTART;VALUE=DATE:20260430
DTEND;VALUE=DATE:20260504
DTSTAMP:20260421T182323
CREATED:20260410T132435Z
LAST-MODIFIED:20260410T132435Z
UID:30258-1777507200-1777852799@www.tontitown.com
SUMMARY:City Wide Garage Sale
DESCRIPTION:
URL:https://www.tontitown.com/event/city-wide-garage-sale-2/
LOCATION:City of Tontitown\, Tontitown\, AR\, 72762\, United States
CATEGORIES:Event
END:VEVENT
BEGIN:VEVENT
DTSTART;TZID=America/Chicago:20260531T100000
DTEND;TZID=America/Chicago:20260531T140000
DTSTAMP:20260421T182323
CREATED:20260410T133441Z
LAST-MODIFIED:20260410T133441Z
UID:30262-1780221600-1780236000@www.tontitown.com
SUMMARY:Heritage Day 10am-2pm
DESCRIPTION:
URL:https://www.tontitown.com/event/heritage-day-10am-2pm/
LOCATION:All pavilions and the gazebo\, All pavilions and the gazebo
CATEGORIES:Event,Museum
END:VEVENT
BEGIN:VEVENT
DTSTART;VALUE=DATE:20260613
DTEND;VALUE=DATE:20260614
DTSTAMP:20260421T182323
CREATED:20250903T160738Z
LAST-MODIFIED:20250903T160846Z
UID:28107-1781308800-1781395199@www.tontitown.com
SUMMARY:Summer fun Run Inc
DESCRIPTION:All pavilions\, baseball field\, and Cortiana St
URL:https://www.tontitown.com/event/summer-fun-run-inc/
CATEGORIES:Baseball,Event,Pavillion/Gazebo
END:VEVENT
BEGIN:VEVENT
DTSTART;TZID=America/Chicago:20260627T100000
DTEND;TZID=America/Chicago:20260627T140000
DTSTAMP:20260421T182323
CREATED:20260410T135847Z
LAST-MODIFIED:20260410T152957Z
UID:30269-1782554400-1782568800@www.tontitown.com
SUMMARY:Family Fun Day
DESCRIPTION:
URL:https://www.tontitown.com/event/family-fun-day/
CATEGORIES:Event
END:VEVENT
BEGIN:VEVENT
DTSTART;VALUE=DATE:20260804
DTEND;VALUE=DATE:20260809
DTSTAMP:20260421T182323
CREATED:20260410T133636Z
LAST-MODIFIED:20260410T133636Z
UID:30264-1785801600-1786233599@www.tontitown.com
SUMMARY:Tontitown Grape Festival
DESCRIPTION:
URL:https://www.tontitown.com/event/tontitown-grape-festival/
LOCATION:St. Joseph’s Church\, 192 E. Henri De Tonti Blvd\, Tontitown\, AR\, 72762\, United States
CATEGORIES:Event
END:VEVENT
BEGIN:VEVENT
DTSTART;TZID=America/Chicago:20260912T080000
DTEND;TZID=America/Chicago:20260912T170000
DTSTAMP:20260421T182323
CREATED:20260410T135942Z
LAST-MODIFIED:20260410T135942Z
UID:30271-1789200000-1789232400@www.tontitown.com
SUMMARY:Bocci Ball Tournament / Motorcycle Show
DESCRIPTION:
URL:https://www.tontitown.com/event/bocci-ball-tournament-motorcycle-show/
CATEGORIES:Event
END:VEVENT
BEGIN:VEVENT
DTSTART;TZID=America/Chicago:20261031T173000
DTEND;TZID=America/Chicago:20261031T193000
DTSTAMP:20260421T182323
CREATED:20260410T133738Z
LAST-MODIFIED:20260410T133738Z
UID:30266-1793467800-1793475000@www.tontitown.com
SUMMARY:Halloween in the Park
DESCRIPTION:
URL:https://www.tontitown.com/event/halloween-in-the-park-4/
LOCATION:Entire Park\, 235 E. Henri De Tonti Blvd\, Tontitown\, AR\, 72762\, United States
CATEGORIES:Event
END:VEVENT
BEGIN:VEVENT
DTSTART;TZID=America/Chicago:20261101T080000
DTEND;TZID=America/Chicago:20261101T170000
DTSTAMP:20260421T182323
CREATED:20260410T140038Z
LAST-MODIFIED:20260410T140038Z
UID:30273-1793520000-1793552400@www.tontitown.com
SUMMARY:Polenta Smear - Hosted by Tontitown Museum
DESCRIPTION:
URL:https://www.tontitown.com/event/polenta-smear-hosted-by-tontitown-museum/
CATEGORIES:Event
END:VEVENT
BEGIN:VEVENT
DTSTART;TZID=America/Chicago:20261205T080000
DTEND;TZID=America/Chicago:20261205T170000
DTSTAMP:20260421T182323
CREATED:20260410T140118Z
LAST-MODIFIED:20260410T140118Z
UID:30275-1796457600-1796490000@www.tontitown.com
SUMMARY:Christmas in the Park
DESCRIPTION:
URL:https://www.tontitown.com/event/christmas-in-the-park-2/
CATEGORIES:Event
END:VEVENT
END:VCALENDAR