BEGIN:VCALENDAR
VERSION:2.0
PRODID:-//City of Tontitown, Arkansas - ECPv6.15.13//NONSGML v1.0//EN
CALSCALE:GREGORIAN
METHOD:PUBLISH
X-ORIGINAL-URL:https://www.tontitown.com
X-WR-CALDESC:Events for City of Tontitown, Arkansas
REFRESH-INTERVAL;VALUE=DURATION:PT1H
X-Robots-Tag:noindex
X-PUBLISHED-TTL:PT1H
BEGIN:VTIMEZONE
TZID:America/Chicago
BEGIN:DAYLIGHT
TZOFFSETFROM:-0600
TZOFFSETTO:-0500
TZNAME:CDT
DTSTART:20200308T080000
END:DAYLIGHT
BEGIN:STANDARD
TZOFFSETFROM:-0500
TZOFFSETTO:-0600
TZNAME:CST
DTSTART:20201101T070000
END:STANDARD
BEGIN:DAYLIGHT
TZOFFSETFROM:-0600
TZOFFSETTO:-0500
TZNAME:CDT
DTSTART:20210314T080000
END:DAYLIGHT
BEGIN:STANDARD
TZOFFSETFROM:-0500
TZOFFSETTO:-0600
TZNAME:CST
DTSTART:20211107T070000
END:STANDARD
BEGIN:DAYLIGHT
TZOFFSETFROM:-0600
TZOFFSETTO:-0500
TZNAME:CDT
DTSTART:20220313T080000
END:DAYLIGHT
BEGIN:STANDARD
TZOFFSETFROM:-0500
TZOFFSETTO:-0600
TZNAME:CST
DTSTART:20221106T070000
END:STANDARD
END:VTIMEZONE
BEGIN:VEVENT
DTSTART;TZID=America/Chicago:20210529T080000
DTEND;TZID=America/Chicago:20210529T140000
DTSTAMP:20260423T235322
CREATED:20210521T171001Z
LAST-MODIFIED:20210521T171001Z
UID:12714-1622275200-1622296800@www.tontitown.com
SUMMARY:COVID-19 Vaccine Drive at Farmers’ Market
DESCRIPTION:The Tontitown Farmers’ Market is proud to collaborate with the Arkansas Foundation for Medical Care (AFMC) and the Arkansas Department of Health (ADH) to offer the one-shot Johnson & Johnson COVID-19 vaccine! You can receive the vaccine on 05/29/2021 from 8am – 2pm at the Harry Sbanotto Park. Adults ages 18 and older are eligible for the J & J vaccine. Please bring your ID and insurance card\, if available. \nWhile getting COVID-19 may offer some natural protection or immunity\, the risk of severe illness and death from COVID-19 far outweighs any benefits of natural immunity. Getting a COVID-19 vaccine will help protect you without having to be sick. Click here to learn about the benefits of COVID-19 vaccination: https://www.cdc.gov/coronavirus/2019-ncov/vaccines/about-vaccines/vaccine-benefits.html\, or click to view this information sheet:
URL:https://www.tontitown.com/event/covid-19-vaccine-drive-at-farmers-market/
LOCATION:Harry Sbonatto Park\, 235 E. Henri De Tonti Blvd\, Tontitown\, AR\, 72762\, United States
CATEGORIES:DEFAULT
END:VEVENT
BEGIN:VEVENT
DTSTART;TZID=America/Chicago:20210501T080000
DTEND;TZID=America/Chicago:20210501T140000
DTSTAMP:20260423T235322
CREATED:20210113T213442Z
LAST-MODIFIED:20210113T213442Z
UID:11693-1619856000-1619877600@www.tontitown.com
SUMMARY:Tontitown Farmers' Market
DESCRIPTION:The Tontitown Farmers’ Market will begin its fifth year of operation on May 1\, 2021. The market is held on Saturdays from 8:00 am – 2:00 pm in the heart of Tontitown\, in the beautiful Harry Sbanotto Park located on East Henri De Tonti behind City Hall! \nVisit our Farmers’ Market page on the website for more information\, news\, and lists of vendors: \nhttps://www.tontitown.com/tontitown-farmers-market/
URL:https://www.tontitown.com/event/tontitown-farmers-market/2021-05-01/
LOCATION:Harry Sbanotto Park\, Harry Sbanotto Park
CATEGORIES:DEFAULT
ORGANIZER;CN="Danielle DeLille":MAILTO:ddelille@tontitownar.gov
END:VEVENT
END:VCALENDAR