BEGIN:VCALENDAR
VERSION:2.0
PRODID:-//City of Tontitown, Arkansas - ECPv6.15.13//NONSGML v1.0//EN
CALSCALE:GREGORIAN
METHOD:PUBLISH
X-WR-CALNAME:City of Tontitown, Arkansas
X-ORIGINAL-URL:https://www.tontitown.com
X-WR-CALDESC:Events for City of Tontitown, Arkansas
REFRESH-INTERVAL;VALUE=DURATION:PT1H
X-Robots-Tag:noindex
X-PUBLISHED-TTL:PT1H
BEGIN:VTIMEZONE
TZID:America/Chicago
BEGIN:DAYLIGHT
TZOFFSETFROM:-0600
TZOFFSETTO:-0500
TZNAME:CDT
DTSTART:20240310T080000
END:DAYLIGHT
BEGIN:STANDARD
TZOFFSETFROM:-0500
TZOFFSETTO:-0600
TZNAME:CST
DTSTART:20241103T070000
END:STANDARD
BEGIN:DAYLIGHT
TZOFFSETFROM:-0600
TZOFFSETTO:-0500
TZNAME:CDT
DTSTART:20250309T080000
END:DAYLIGHT
BEGIN:STANDARD
TZOFFSETFROM:-0500
TZOFFSETTO:-0600
TZNAME:CST
DTSTART:20251102T070000
END:STANDARD
BEGIN:DAYLIGHT
TZOFFSETFROM:-0600
TZOFFSETTO:-0500
TZNAME:CDT
DTSTART:20260308T080000
END:DAYLIGHT
BEGIN:STANDARD
TZOFFSETFROM:-0500
TZOFFSETTO:-0600
TZNAME:CST
DTSTART:20261101T070000
END:STANDARD
END:VTIMEZONE
BEGIN:VEVENT
DTSTART;TZID=America/Chicago:20251004T100000
DTEND;TZID=America/Chicago:20251004T160000
DTSTAMP:20260422T044544
CREATED:20250725T185336Z
LAST-MODIFIED:20251002T191045Z
UID:27654-1759572000-1759593600@www.tontitown.com
SUMMARY:Sbanotto Reservation-Piazza Pavilion
DESCRIPTION:
URL:https://www.tontitown.com/event/sbanotto-reservation-piazza-pavilion/
CATEGORIES:Pavillion/Gazebo
END:VEVENT
BEGIN:VEVENT
DTSTART;TZID=America/Chicago:20251004T110000
DTEND;TZID=America/Chicago:20251004T140000
DTSTAMP:20260422T044544
CREATED:20250801T201740Z
LAST-MODIFIED:20250801T201740Z
UID:27698-1759575600-1759586400@www.tontitown.com
SUMMARY:Kristal Miser - Hinshaw
DESCRIPTION:
URL:https://www.tontitown.com/event/kristal-miser-hinshaw/
CATEGORIES:Pavillion/Gazebo
END:VEVENT
BEGIN:VEVENT
DTSTART;TZID=America/Chicago:20251004T120000
DTEND;TZID=America/Chicago:20251004T140000
DTSTAMP:20260422T044544
CREATED:20250827T142342Z
LAST-MODIFIED:20250827T142342Z
UID:28072-1759579200-1759586400@www.tontitown.com
SUMMARY:Hanna Barnett - Penzo Pavilion
DESCRIPTION:
URL:https://www.tontitown.com/event/hanna-barnett-penzo-pavilion/
CATEGORIES:Pavillion/Gazebo
END:VEVENT
BEGIN:VEVENT
DTSTART;TZID=America/Chicago:20251004T150000
DTEND;TZID=America/Chicago:20251004T170000
DTSTAMP:20260422T044544
CREATED:20250930T131015Z
LAST-MODIFIED:20251002T191934Z
UID:28270-1759590000-1759597200@www.tontitown.com
SUMMARY:Kaytie Eliasen - Penzo Pavilion - Party
DESCRIPTION:
URL:https://www.tontitown.com/event/kaytie-eliasen-hinshaw-pavilion-party/
CATEGORIES:Pavillion/Gazebo
END:VEVENT
BEGIN:VEVENT
DTSTART;TZID=America/Chicago:20251004T150000
DTEND;TZID=America/Chicago:20251004T190000
DTSTAMP:20260422T044544
CREATED:20251001T151537Z
LAST-MODIFIED:20251002T190953Z
UID:28278-1759590000-1759604400@www.tontitown.com
SUMMARY:Renee Johnson - Hinshaw\, Gazebo\, Penzo (after 5pm)\, Piazza (after 4pm) - Celebration
DESCRIPTION:
URL:https://www.tontitown.com/event/renee-johnson-hinshaw-gazebo-penzo-celebration/
CATEGORIES:Pavillion/Gazebo
END:VEVENT
END:VCALENDAR