BEGIN:VCALENDAR
VERSION:2.0
PRODID:-//City of Tontitown, Arkansas - ECPv6.15.13//NONSGML v1.0//EN
CALSCALE:GREGORIAN
METHOD:PUBLISH
X-WR-CALNAME:City of Tontitown, Arkansas
X-ORIGINAL-URL:https://www.tontitown.com
X-WR-CALDESC:Events for City of Tontitown, Arkansas
REFRESH-INTERVAL;VALUE=DURATION:PT1H
X-Robots-Tag:noindex
X-PUBLISHED-TTL:PT1H
BEGIN:VTIMEZONE
TZID:America/Chicago
BEGIN:DAYLIGHT
TZOFFSETFROM:-0600
TZOFFSETTO:-0500
TZNAME:CDT
DTSTART:20240310T080000
END:DAYLIGHT
BEGIN:STANDARD
TZOFFSETFROM:-0500
TZOFFSETTO:-0600
TZNAME:CST
DTSTART:20241103T070000
END:STANDARD
BEGIN:DAYLIGHT
TZOFFSETFROM:-0600
TZOFFSETTO:-0500
TZNAME:CDT
DTSTART:20250309T080000
END:DAYLIGHT
BEGIN:STANDARD
TZOFFSETFROM:-0500
TZOFFSETTO:-0600
TZNAME:CST
DTSTART:20251102T070000
END:STANDARD
BEGIN:DAYLIGHT
TZOFFSETFROM:-0600
TZOFFSETTO:-0500
TZNAME:CDT
DTSTART:20260308T080000
END:DAYLIGHT
BEGIN:STANDARD
TZOFFSETFROM:-0500
TZOFFSETTO:-0600
TZNAME:CST
DTSTART:20261101T070000
END:STANDARD
END:VTIMEZONE
BEGIN:VEVENT
DTSTART;TZID=America/Chicago:20250410T143000
DTEND;TZID=America/Chicago:20250410T173000
DTSTAMP:20260423T094419
CREATED:20250409T213519Z
LAST-MODIFIED:20250409T213519Z
UID:26810-1744295400-1744306200@www.tontitown.com
SUMMARY:Winkelman 2:30pm-5:30pm
DESCRIPTION:MP Rec #13712
URL:https://www.tontitown.com/event/winkelman-230pm-530pm/
CATEGORIES:Baseball
END:VEVENT
BEGIN:VEVENT
DTSTART;TZID=America/Chicago:20250410T143000
DTEND;TZID=America/Chicago:20250410T173000
DTSTAMP:20260423T094419
CREATED:20250409T213626Z
LAST-MODIFIED:20250409T213626Z
UID:26812-1744295400-1744306200@www.tontitown.com
SUMMARY:Winkleman NW Hinshaw Pavillion 2:30pm-5:30pm
DESCRIPTION:MP Rec #13712
URL:https://www.tontitown.com/event/winkleman-nw-hinshaw-pavillion-230pm-530pm/
CATEGORIES:Pavillion/Gazebo
END:VEVENT
BEGIN:VEVENT
DTSTART;TZID=America/Chicago:20250410T160000
DTEND;TZID=America/Chicago:20250410T180000
DTSTAMP:20260423T094419
CREATED:20250319T135543Z
LAST-MODIFIED:20250319T135637Z
UID:26490-1744300800-1744308000@www.tontitown.com
SUMMARY:Prospects 8U- 4-6pm
DESCRIPTION:MP received app; JM Reserved
URL:https://www.tontitown.com/event/prospects-8u-4-6pm/2025-04-10/
LOCATION:Baseball Field\, 235 E. Henri De Tonti Blvd\, Tontitown\, AR\, 72762\, United States
CATEGORIES:Baseball
END:VEVENT
BEGIN:VEVENT
DTSTART;TZID=America/Chicago:20250410T180000
DTEND;TZID=America/Chicago:20250410T200000
DTSTAMP:20260423T094419
CREATED:20240814T143223Z
LAST-MODIFIED:20240814T143223Z
UID:25234-1744308000-1744315200@www.tontitown.com
SUMMARY:NWA SOX 11U-6-8pm
DESCRIPTION:MP Rec #N/A Garrison
URL:https://www.tontitown.com/event/nwa-sox-11u-6-8pm-2/2025-04-10/
LOCATION:Baseball Field\, 235 E. Henri De Tonti Blvd\, Tontitown\, AR\, 72762\, United States
CATEGORIES:Baseball
END:VEVENT
BEGIN:VEVENT
DTSTART;TZID=America/Chicago:20250410T180000
DTEND;TZID=America/Chicago:20250410T200000
DTSTAMP:20260423T094419
CREATED:20241031T173753Z
LAST-MODIFIED:20241031T173753Z
UID:25711-1744308000-1744315200@www.tontitown.com
SUMMARY:NWA SOX 11u- Garrison- Tuesdays/Thursdays 6-8pm
DESCRIPTION:JM\, Kelli McGarrah
URL:https://www.tontitown.com/event/nwa-sox-11u-garrison-tuesdays-thursdays-6-8pm/2025-04-10/
LOCATION:Baseball Field\, 235 E. Henri De Tonti Blvd\, Tontitown\, AR\, 72762\, United States
CATEGORIES:Baseball
END:VEVENT
END:VCALENDAR