BEGIN:VCALENDAR
VERSION:2.0
PRODID:-//City of Tontitown, Arkansas - ECPv6.15.13//NONSGML v1.0//EN
CALSCALE:GREGORIAN
METHOD:PUBLISH
X-ORIGINAL-URL:https://www.tontitown.com
X-WR-CALDESC:Events for City of Tontitown, Arkansas
REFRESH-INTERVAL;VALUE=DURATION:PT1H
X-Robots-Tag:noindex
X-PUBLISHED-TTL:PT1H
BEGIN:VTIMEZONE
TZID:America/Chicago
BEGIN:DAYLIGHT
TZOFFSETFROM:-0600
TZOFFSETTO:-0500
TZNAME:CDT
DTSTART:20230312T080000
END:DAYLIGHT
BEGIN:STANDARD
TZOFFSETFROM:-0500
TZOFFSETTO:-0600
TZNAME:CST
DTSTART:20231105T070000
END:STANDARD
BEGIN:DAYLIGHT
TZOFFSETFROM:-0600
TZOFFSETTO:-0500
TZNAME:CDT
DTSTART:20240310T080000
END:DAYLIGHT
BEGIN:STANDARD
TZOFFSETFROM:-0500
TZOFFSETTO:-0600
TZNAME:CST
DTSTART:20241103T070000
END:STANDARD
BEGIN:DAYLIGHT
TZOFFSETFROM:-0600
TZOFFSETTO:-0500
TZNAME:CDT
DTSTART:20250309T080000
END:DAYLIGHT
BEGIN:STANDARD
TZOFFSETFROM:-0500
TZOFFSETTO:-0600
TZNAME:CST
DTSTART:20251102T070000
END:STANDARD
END:VTIMEZONE
BEGIN:VEVENT
DTSTART;TZID=America/Chicago:20240913T183000
DTEND;TZID=America/Chicago:20240913T200000
DTSTAMP:20260422T173920
CREATED:20240731T184958Z
LAST-MODIFIED:20240731T184958Z
UID:24983-1726252200-1726257600@www.tontitown.com
SUMMARY:Arkansas Hornets 10U 6:30-8:00pm
DESCRIPTION:MP-Jessica Sanders
URL:https://www.tontitown.com/event/arkansas-hornets-10u-630-800pm-2/2024-09-13/
CATEGORIES:Baseball
END:VEVENT
END:VCALENDAR