BEGIN:VCALENDAR
VERSION:2.0
PRODID:-//City of Tontitown, Arkansas - ECPv6.15.13//NONSGML v1.0//EN
CALSCALE:GREGORIAN
METHOD:PUBLISH
X-ORIGINAL-URL:https://www.tontitown.com
X-WR-CALDESC:Events for City of Tontitown, Arkansas
REFRESH-INTERVAL;VALUE=DURATION:PT1H
X-Robots-Tag:noindex
X-PUBLISHED-TTL:PT1H
BEGIN:VTIMEZONE
TZID:America/Chicago
BEGIN:DAYLIGHT
TZOFFSETFROM:-0600
TZOFFSETTO:-0500
TZNAME:CDT
DTSTART:20230312T080000
END:DAYLIGHT
BEGIN:STANDARD
TZOFFSETFROM:-0500
TZOFFSETTO:-0600
TZNAME:CST
DTSTART:20231105T070000
END:STANDARD
BEGIN:DAYLIGHT
TZOFFSETFROM:-0600
TZOFFSETTO:-0500
TZNAME:CDT
DTSTART:20240310T080000
END:DAYLIGHT
BEGIN:STANDARD
TZOFFSETFROM:-0500
TZOFFSETTO:-0600
TZNAME:CST
DTSTART:20241103T070000
END:STANDARD
BEGIN:DAYLIGHT
TZOFFSETFROM:-0600
TZOFFSETTO:-0500
TZNAME:CDT
DTSTART:20250309T080000
END:DAYLIGHT
BEGIN:STANDARD
TZOFFSETFROM:-0500
TZOFFSETTO:-0600
TZNAME:CST
DTSTART:20251102T070000
END:STANDARD
END:VTIMEZONE
BEGIN:VEVENT
DTSTART;TZID=America/Chicago:20240523T170000
DTEND;TZID=America/Chicago:20240523T180000
DTSTAMP:20260424T021030
CREATED:20240412T181204Z
LAST-MODIFIED:20240412T181247Z
UID:24234-1716483600-1716487200@www.tontitown.com
SUMMARY:Merryman Penguins 10U- 5-6:30pm
DESCRIPTION:JM\, Josh Merryman
URL:https://www.tontitown.com/event/merryman-penguins-5-630pm/2024-05-23/
LOCATION:Baseball Field\, 235 E. Henri De Tonti Blvd\, Tontitown\, AR\, 72762\, United States
CATEGORIES:Baseball
END:VEVENT
BEGIN:VEVENT
DTSTART;TZID=America/Chicago:20240523T183000
DTEND;TZID=America/Chicago:20240523T200000
DTSTAMP:20260424T021030
CREATED:20240131T201328Z
LAST-MODIFIED:20240322T191752Z
UID:23261-1716489000-1716494400@www.tontitown.com
SUMMARY:Prospects 9U Gray
DESCRIPTION:JM\, Jeffrey Cissell
URL:https://www.tontitown.com/event/prospects-9u-gray-2/2024-05-23/
LOCATION:Baseball Field\, 235 E. Henri De Tonti Blvd\, Tontitown\, AR\, 72762\, United States
CATEGORIES:Baseball
END:VEVENT
END:VCALENDAR