BEGIN:VCALENDAR
VERSION:2.0
PRODID:-//City of Tontitown, Arkansas - ECPv6.15.13//NONSGML v1.0//EN
CALSCALE:GREGORIAN
METHOD:PUBLISH
X-ORIGINAL-URL:https://www.tontitown.com
X-WR-CALDESC:Events for City of Tontitown, Arkansas
REFRESH-INTERVAL;VALUE=DURATION:PT1H
X-Robots-Tag:noindex
X-PUBLISHED-TTL:PT1H
BEGIN:VTIMEZONE
TZID:America/Chicago
BEGIN:DAYLIGHT
TZOFFSETFROM:-0600
TZOFFSETTO:-0500
TZNAME:CDT
DTSTART:20250309T080000
END:DAYLIGHT
BEGIN:STANDARD
TZOFFSETFROM:-0500
TZOFFSETTO:-0600
TZNAME:CST
DTSTART:20251102T070000
END:STANDARD
BEGIN:DAYLIGHT
TZOFFSETFROM:-0600
TZOFFSETTO:-0500
TZNAME:CDT
DTSTART:20260308T080000
END:DAYLIGHT
BEGIN:STANDARD
TZOFFSETFROM:-0500
TZOFFSETTO:-0600
TZNAME:CST
DTSTART:20261101T070000
END:STANDARD
BEGIN:DAYLIGHT
TZOFFSETFROM:-0600
TZOFFSETTO:-0500
TZNAME:CDT
DTSTART:20270314T080000
END:DAYLIGHT
BEGIN:STANDARD
TZOFFSETFROM:-0500
TZOFFSETTO:-0600
TZNAME:CST
DTSTART:20271107T070000
END:STANDARD
BEGIN:DAYLIGHT
TZOFFSETFROM:-0600
TZOFFSETTO:-0500
TZNAME:CDT
DTSTART:20280312T080000
END:DAYLIGHT
BEGIN:STANDARD
TZOFFSETFROM:-0500
TZOFFSETTO:-0600
TZNAME:CST
DTSTART:20281105T070000
END:STANDARD
BEGIN:DAYLIGHT
TZOFFSETFROM:-0600
TZOFFSETTO:-0500
TZNAME:CDT
DTSTART:20290311T080000
END:DAYLIGHT
BEGIN:STANDARD
TZOFFSETFROM:-0500
TZOFFSETTO:-0600
TZNAME:CST
DTSTART:20291104T070000
END:STANDARD
END:VTIMEZONE
BEGIN:VEVENT
DTSTART;TZID=America/Chicago:20260505T180000
DTEND;TZID=America/Chicago:20260505T183000
DTSTAMP:20260420T220652
CREATED:20250214T172020Z
LAST-MODIFIED:20250214T172020Z
UID:26260-1778004000-1778005800@www.tontitown.com
SUMMARY:Committee of the Whole Meeting
DESCRIPTION:
URL:https://www.tontitown.com/event/committee-of-the-whole-meeting-4/2026-05-05/
CATEGORIES:City
END:VEVENT
BEGIN:VEVENT
DTSTART;TZID=America/Chicago:20260602T180000
DTEND;TZID=America/Chicago:20260602T183000
DTSTAMP:20260420T220652
CREATED:20250214T172020Z
LAST-MODIFIED:20250214T172020Z
UID:26261-1780423200-1780425000@www.tontitown.com
SUMMARY:Committee of the Whole Meeting
DESCRIPTION:
URL:https://www.tontitown.com/event/committee-of-the-whole-meeting-4/2026-06-02/
CATEGORIES:City
END:VEVENT
BEGIN:VEVENT
DTSTART;TZID=America/Chicago:20260707T180000
DTEND;TZID=America/Chicago:20260707T183000
DTSTAMP:20260420T220652
CREATED:20250214T172020Z
LAST-MODIFIED:20250214T172020Z
UID:26262-1783447200-1783449000@www.tontitown.com
SUMMARY:Committee of the Whole Meeting
DESCRIPTION:
URL:https://www.tontitown.com/event/committee-of-the-whole-meeting-4/2026-07-07/
CATEGORIES:City
END:VEVENT
BEGIN:VEVENT
DTSTART;TZID=America/Chicago:20260804T180000
DTEND;TZID=America/Chicago:20260804T183000
DTSTAMP:20260420T220652
CREATED:20250214T172020Z
LAST-MODIFIED:20250214T172020Z
UID:26263-1785866400-1785868200@www.tontitown.com
SUMMARY:Committee of the Whole Meeting
DESCRIPTION:
URL:https://www.tontitown.com/event/committee-of-the-whole-meeting-4/2026-08-04/
CATEGORIES:City
END:VEVENT
BEGIN:VEVENT
DTSTART;TZID=America/Chicago:20260901T180000
DTEND;TZID=America/Chicago:20260901T183000
DTSTAMP:20260420T220652
CREATED:20250214T172020Z
LAST-MODIFIED:20250214T172020Z
UID:26264-1788285600-1788287400@www.tontitown.com
SUMMARY:Committee of the Whole Meeting
DESCRIPTION:
URL:https://www.tontitown.com/event/committee-of-the-whole-meeting-4/2026-09-01/
CATEGORIES:City
END:VEVENT
BEGIN:VEVENT
DTSTART;TZID=America/Chicago:20261006T180000
DTEND;TZID=America/Chicago:20261006T183000
DTSTAMP:20260420T220652
CREATED:20250214T172020Z
LAST-MODIFIED:20250214T172020Z
UID:26265-1791309600-1791311400@www.tontitown.com
SUMMARY:Committee of the Whole Meeting
DESCRIPTION:
URL:https://www.tontitown.com/event/committee-of-the-whole-meeting-4/2026-10-06/
CATEGORIES:City
END:VEVENT
BEGIN:VEVENT
DTSTART;TZID=America/Chicago:20261103T180000
DTEND;TZID=America/Chicago:20261103T183000
DTSTAMP:20260420T220652
CREATED:20250214T172020Z
LAST-MODIFIED:20250214T172020Z
UID:26266-1793728800-1793730600@www.tontitown.com
SUMMARY:Committee of the Whole Meeting
DESCRIPTION:
URL:https://www.tontitown.com/event/committee-of-the-whole-meeting-4/2026-11-03/
CATEGORIES:City
END:VEVENT
BEGIN:VEVENT
DTSTART;TZID=America/Chicago:20261201T180000
DTEND;TZID=America/Chicago:20261201T183000
DTSTAMP:20260420T220652
CREATED:20250214T172020Z
LAST-MODIFIED:20250214T172020Z
UID:26267-1796148000-1796149800@www.tontitown.com
SUMMARY:Committee of the Whole Meeting
DESCRIPTION:
URL:https://www.tontitown.com/event/committee-of-the-whole-meeting-4/2026-12-01/
CATEGORIES:City
END:VEVENT
BEGIN:VEVENT
DTSTART;TZID=America/Chicago:20270105T180000
DTEND;TZID=America/Chicago:20270105T183000
DTSTAMP:20260420T220652
CREATED:20250214T172020Z
LAST-MODIFIED:20250214T172020Z
UID:26268-1799172000-1799173800@www.tontitown.com
SUMMARY:Committee of the Whole Meeting
DESCRIPTION:
URL:https://www.tontitown.com/event/committee-of-the-whole-meeting-4/2027-01-05/
CATEGORIES:City
END:VEVENT
BEGIN:VEVENT
DTSTART;TZID=America/Chicago:20270202T180000
DTEND;TZID=America/Chicago:20270202T183000
DTSTAMP:20260420T220652
CREATED:20250214T172020Z
LAST-MODIFIED:20250214T172020Z
UID:26269-1801591200-1801593000@www.tontitown.com
SUMMARY:Committee of the Whole Meeting
DESCRIPTION:
URL:https://www.tontitown.com/event/committee-of-the-whole-meeting-4/2027-02-02/
CATEGORIES:City
END:VEVENT
BEGIN:VEVENT
DTSTART;TZID=America/Chicago:20270302T180000
DTEND;TZID=America/Chicago:20270302T183000
DTSTAMP:20260420T220652
CREATED:20250214T172020Z
LAST-MODIFIED:20250214T172020Z
UID:26377-1804010400-1804012200@www.tontitown.com
SUMMARY:Committee of the Whole Meeting
DESCRIPTION:
URL:https://www.tontitown.com/event/committee-of-the-whole-meeting-4/2027-03-02/
CATEGORIES:City
END:VEVENT
BEGIN:VEVENT
DTSTART;TZID=America/Chicago:20270406T180000
DTEND;TZID=America/Chicago:20270406T183000
DTSTAMP:20260420T220652
CREATED:20250214T172020Z
LAST-MODIFIED:20250214T172020Z
UID:26796-1807034400-1807036200@www.tontitown.com
SUMMARY:Committee of the Whole Meeting
DESCRIPTION:
URL:https://www.tontitown.com/event/committee-of-the-whole-meeting-4/2027-04-06/
CATEGORIES:City
END:VEVENT
BEGIN:VEVENT
DTSTART;TZID=America/Chicago:20270504T180000
DTEND;TZID=America/Chicago:20270504T183000
DTSTAMP:20260420T220652
CREATED:20250214T172020Z
LAST-MODIFIED:20250214T172020Z
UID:26991-1809453600-1809455400@www.tontitown.com
SUMMARY:Committee of the Whole Meeting
DESCRIPTION:
URL:https://www.tontitown.com/event/committee-of-the-whole-meeting-4/2027-05-04/
CATEGORIES:City
END:VEVENT
BEGIN:VEVENT
DTSTART;TZID=America/Chicago:20270601T180000
DTEND;TZID=America/Chicago:20270601T183000
DTSTAMP:20260420T220652
CREATED:20250214T172020Z
LAST-MODIFIED:20250214T172020Z
UID:27138-1811872800-1811874600@www.tontitown.com
SUMMARY:Committee of the Whole Meeting
DESCRIPTION:
URL:https://www.tontitown.com/event/committee-of-the-whole-meeting-4/2027-06-01/
CATEGORIES:City
END:VEVENT
BEGIN:VEVENT
DTSTART;TZID=America/Chicago:20270706T180000
DTEND;TZID=America/Chicago:20270706T183000
DTSTAMP:20260420T220652
CREATED:20250214T172020Z
LAST-MODIFIED:20250214T172020Z
UID:27523-1814896800-1814898600@www.tontitown.com
SUMMARY:Committee of the Whole Meeting
DESCRIPTION:
URL:https://www.tontitown.com/event/committee-of-the-whole-meeting-4/2027-07-06/
CATEGORIES:City
END:VEVENT
BEGIN:VEVENT
DTSTART;TZID=America/Chicago:20270803T180000
DTEND;TZID=America/Chicago:20270803T183000
DTSTAMP:20260420T220652
CREATED:20250214T172020Z
LAST-MODIFIED:20250214T172020Z
UID:27724-1817316000-1817317800@www.tontitown.com
SUMMARY:Committee of the Whole Meeting
DESCRIPTION:
URL:https://www.tontitown.com/event/committee-of-the-whole-meeting-4/2027-08-03/
CATEGORIES:City
END:VEVENT
BEGIN:VEVENT
DTSTART;TZID=America/Chicago:20270907T180000
DTEND;TZID=America/Chicago:20270907T183000
DTSTAMP:20260420T220652
CREATED:20250214T172020Z
LAST-MODIFIED:20250214T172020Z
UID:28139-1820340000-1820341800@www.tontitown.com
SUMMARY:Committee of the Whole Meeting
DESCRIPTION:
URL:https://www.tontitown.com/event/committee-of-the-whole-meeting-4/2027-09-07/
CATEGORIES:City
END:VEVENT
BEGIN:VEVENT
DTSTART;TZID=America/Chicago:20271005T180000
DTEND;TZID=America/Chicago:20271005T183000
DTSTAMP:20260420T220652
CREATED:20250214T172020Z
LAST-MODIFIED:20250214T172020Z
UID:28307-1822759200-1822761000@www.tontitown.com
SUMMARY:Committee of the Whole Meeting
DESCRIPTION:
URL:https://www.tontitown.com/event/committee-of-the-whole-meeting-4/2027-10-05/
CATEGORIES:City
END:VEVENT
BEGIN:VEVENT
DTSTART;TZID=America/Chicago:20271102T180000
DTEND;TZID=America/Chicago:20271102T183000
DTSTAMP:20260420T220652
CREATED:20250214T172020Z
LAST-MODIFIED:20250214T172020Z
UID:28424-1825178400-1825180200@www.tontitown.com
SUMMARY:Committee of the Whole Meeting
DESCRIPTION:
URL:https://www.tontitown.com/event/committee-of-the-whole-meeting-4/2027-11-02/
CATEGORIES:City
END:VEVENT
BEGIN:VEVENT
DTSTART;TZID=America/Chicago:20271207T180000
DTEND;TZID=America/Chicago:20271207T183000
DTSTAMP:20260420T220652
CREATED:20250214T172020Z
LAST-MODIFIED:20250214T172020Z
UID:28904-1828202400-1828204200@www.tontitown.com
SUMMARY:Committee of the Whole Meeting
DESCRIPTION:
URL:https://www.tontitown.com/event/committee-of-the-whole-meeting-4/2027-12-07/
CATEGORIES:City
END:VEVENT
BEGIN:VEVENT
DTSTART;TZID=America/Chicago:20280104T180000
DTEND;TZID=America/Chicago:20280104T183000
DTSTAMP:20260420T220652
CREATED:20250214T172020Z
LAST-MODIFIED:20250214T172020Z
UID:29008-1830621600-1830623400@www.tontitown.com
SUMMARY:Committee of the Whole Meeting
DESCRIPTION:
URL:https://www.tontitown.com/event/committee-of-the-whole-meeting-4/2028-01-04/
CATEGORIES:City
END:VEVENT
BEGIN:VEVENT
DTSTART;TZID=America/Chicago:20280201T180000
DTEND;TZID=America/Chicago:20280201T183000
DTSTAMP:20260420T220652
CREATED:20250214T172020Z
LAST-MODIFIED:20250214T172020Z
UID:29200-1833040800-1833042600@www.tontitown.com
SUMMARY:Committee of the Whole Meeting
DESCRIPTION:
URL:https://www.tontitown.com/event/committee-of-the-whole-meeting-4/2028-02-01/
CATEGORIES:City
END:VEVENT
BEGIN:VEVENT
DTSTART;TZID=America/Chicago:20280307T180000
DTEND;TZID=America/Chicago:20280307T183000
DTSTAMP:20260420T220652
CREATED:20250214T172020Z
LAST-MODIFIED:20250214T172020Z
UID:30046-1836064800-1836066600@www.tontitown.com
SUMMARY:Committee of the Whole Meeting
DESCRIPTION:
URL:https://www.tontitown.com/event/committee-of-the-whole-meeting-4/2028-03-07/
CATEGORIES:City
END:VEVENT
BEGIN:VEVENT
DTSTART;TZID=America/Chicago:20280404T180000
DTEND;TZID=America/Chicago:20280404T183000
DTSTAMP:20260420T220652
CREATED:20250214T172020Z
LAST-MODIFIED:20250214T172020Z
UID:30212-1838484000-1838485800@www.tontitown.com
SUMMARY:Committee of the Whole Meeting
DESCRIPTION:
URL:https://www.tontitown.com/event/committee-of-the-whole-meeting-4/2028-04-04/
CATEGORIES:City
END:VEVENT
END:VCALENDAR